BEGIN:VCALENDAR
VERSION:2.0
PRODID:-//RECYCLING magazin - ECPv6.15.20//NONSGML v1.0//EN
CALSCALE:GREGORIAN
METHOD:PUBLISH
X-WR-CALNAME:RECYCLING magazin
X-ORIGINAL-URL:https://www.recyclingmagazin.de
X-WR-CALDESC:Veranstaltungen für RECYCLING magazin
REFRESH-INTERVAL;VALUE=DURATION:PT1H
X-Robots-Tag:noindex
X-PUBLISHED-TTL:PT1H
BEGIN:VTIMEZONE
TZID:Europe/Berlin
BEGIN:DAYLIGHT
TZOFFSETFROM:+0100
TZOFFSETTO:+0200
TZNAME:CEST
DTSTART:20220327T010000
END:DAYLIGHT
BEGIN:STANDARD
TZOFFSETFROM:+0200
TZOFFSETTO:+0100
TZNAME:CET
DTSTART:20221030T010000
END:STANDARD
BEGIN:DAYLIGHT
TZOFFSETFROM:+0100
TZOFFSETTO:+0200
TZNAME:CEST
DTSTART:20230326T010000
END:DAYLIGHT
BEGIN:STANDARD
TZOFFSETFROM:+0200
TZOFFSETTO:+0100
TZNAME:CET
DTSTART:20231029T010000
END:STANDARD
BEGIN:DAYLIGHT
TZOFFSETFROM:+0100
TZOFFSETTO:+0200
TZNAME:CEST
DTSTART:20240331T010000
END:DAYLIGHT
BEGIN:STANDARD
TZOFFSETFROM:+0200
TZOFFSETTO:+0100
TZNAME:CET
DTSTART:20241027T010000
END:STANDARD
END:VTIMEZONE
BEGIN:VEVENT
DTSTART;VALUE=DATE:20230525
DTEND;VALUE=DATE:20230526
DTSTAMP:20260426T032117
CREATED:20230414T091505Z
LAST-MODIFIED:20230414T092525Z
UID:396613-1684972800-1685059199@www.recyclingmagazin.de
SUMMARY:Nachhaltiges Bauen und Nachhaltige Chemie - Sustainable Chemistry SPOTLIGHTS 2023
DESCRIPTION:Mit Blick auf die 5. Internationale Welt Chemikalienkonferenz (ICCM5) startet das International Sustainable Chemistry Collaborative Centre (ISC3) die Diskussion über die Bedeutung der Nachhaltigen Chemie\, als holistischer Ansatz für innovative Lösungen\, um Produkte und Herstellverfahren für die Umwelt und die menschliche Gesundheit sicherer zu gestallten. Die neue Online-Live-Eventserie „Sustainable Chemistry SPOTLIGHTS“ richtet den Blick dafür auf vier Kernthemen der Nachhaltigen Chemie: Innovationen\, Erneuerbare Energie und Nachhaltiges Bauen sowie den Dialog mit Politik und Interessenvertretern. Multilaterale Organisationen\, Privatwirtschaft\, NGOs und Expert*innen aus unterschiedlichen Bereichen diskutieren nachhaltige Ideen und Ansätze aus verschiedenen Perspektiven. Start-ups präsentieren Innovationen und Best-Practice-Beispiele.
URL:https://www.recyclingmagazin.de/event/nachhaltiges-bauen-und-nachhaltige-chemie-sustainable-chemistry-spotlights-2023/
CATEGORIES:Webinar
END:VEVENT
END:VCALENDAR