BEGIN:VCALENDAR
VERSION:2.0
PRODID:-//RECYCLING magazin - ECPv6.15.20//NONSGML v1.0//EN
CALSCALE:GREGORIAN
METHOD:PUBLISH
X-WR-CALNAME:RECYCLING magazin
X-ORIGINAL-URL:https://www.recyclingmagazin.de
X-WR-CALDESC:Veranstaltungen für RECYCLING magazin
REFRESH-INTERVAL;VALUE=DURATION:PT1H
X-Robots-Tag:noindex
X-PUBLISHED-TTL:PT1H
BEGIN:VTIMEZONE
TZID:Europe/Berlin
BEGIN:DAYLIGHT
TZOFFSETFROM:+0100
TZOFFSETTO:+0200
TZNAME:CEST
DTSTART:20200329T010000
END:DAYLIGHT
BEGIN:STANDARD
TZOFFSETFROM:+0200
TZOFFSETTO:+0100
TZNAME:CET
DTSTART:20201025T010000
END:STANDARD
BEGIN:DAYLIGHT
TZOFFSETFROM:+0100
TZOFFSETTO:+0200
TZNAME:CEST
DTSTART:20210328T010000
END:DAYLIGHT
BEGIN:STANDARD
TZOFFSETFROM:+0200
TZOFFSETTO:+0100
TZNAME:CET
DTSTART:20211031T010000
END:STANDARD
BEGIN:DAYLIGHT
TZOFFSETFROM:+0100
TZOFFSETTO:+0200
TZNAME:CEST
DTSTART:20220327T010000
END:DAYLIGHT
BEGIN:STANDARD
TZOFFSETFROM:+0200
TZOFFSETTO:+0100
TZNAME:CET
DTSTART:20221030T010000
END:STANDARD
END:VTIMEZONE
BEGIN:VEVENT
DTSTART;TZID=Europe/Berlin:20210607T130000
DTEND;TZID=Europe/Berlin:20210607T143000
DTSTAMP:20260420T180909
CREATED:20210419T141649Z
LAST-MODIFIED:20210520T114015Z
UID:383472-1623070800-1623076200@www.recyclingmagazin.de
SUMMARY:Nachhaltig Verpacken: Lösungen für eine Kreislaufwirtschaft
DESCRIPTION:Ohne Verpackungen geht es in vielen Fällen nicht\, da sie die verpackten Produkte schützen. Aber oft wird nicht die nachhaltigste Lösung gewählt. In unserem Online-Seminar möchten wir mit Expert*innen diskutieren\, wie die ideale Verpackung für eine Kreislaufführung aussieht. Wie kann der CO2-Abdruck verringert werden? Und was lässt sich wirklich recyceln? Wie sieht eine möglichst nachhaltige Verpackung aus?\nDas Online-Seminar richtet sich an Unternehmen und Start-ups\, die auf der Suche nach einer ganzheitlich nachhaltigen Verpackungslösung sind. Das Seminar wird vom Bundesverband Nachhaltige Wirtschaft und dem RECYCLING magazin durchgeführt. \nReferent:innen:\nPeter Désilets\, Geschäftsführer\, Pacoon GmbH\nSamira Tanko\, Head of Marketing\, Denttabs innovative Zahnpflegegesellschaft mbH\nStefan Böhme\, Geschäftsführer\, Böhme GmbH Wertstofferfassung\nUrban Buschmann\, Leiter Nachhaltigkeit und Verpackungsentwicklung\, FRoSTA AG \nBegrüßung: Dr. Katharina Reuter\, Geschäftsführerin BNW e.V.\nModeration: Michael Brunn\, Chefredakteur RECYCLING magazin \nZur Anmeldung
URL:https://www.recyclingmagazin.de/event/nachhaltig-verpacken-loesungen-fuer-eine-kreislaufwirtschaft/
LOCATION:Online
CATEGORIES:Webinar
END:VEVENT
END:VCALENDAR