BEGIN:VCALENDAR
VERSION:2.0
PRODID:-//RECYCLING magazin - ECPv6.15.20//NONSGML v1.0//EN
CALSCALE:GREGORIAN
METHOD:PUBLISH
X-WR-CALNAME:RECYCLING magazin
X-ORIGINAL-URL:https://www.recyclingmagazin.de
X-WR-CALDESC:Veranstaltungen für RECYCLING magazin
REFRESH-INTERVAL;VALUE=DURATION:PT1H
X-Robots-Tag:noindex
X-PUBLISHED-TTL:PT1H
BEGIN:VTIMEZONE
TZID:Europe/Berlin
BEGIN:DAYLIGHT
TZOFFSETFROM:+0100
TZOFFSETTO:+0200
TZNAME:CEST
DTSTART:20180325T010000
END:DAYLIGHT
BEGIN:STANDARD
TZOFFSETFROM:+0200
TZOFFSETTO:+0100
TZNAME:CET
DTSTART:20181028T010000
END:STANDARD
BEGIN:DAYLIGHT
TZOFFSETFROM:+0100
TZOFFSETTO:+0200
TZNAME:CEST
DTSTART:20190331T010000
END:DAYLIGHT
BEGIN:STANDARD
TZOFFSETFROM:+0200
TZOFFSETTO:+0100
TZNAME:CET
DTSTART:20191027T010000
END:STANDARD
BEGIN:DAYLIGHT
TZOFFSETFROM:+0100
TZOFFSETTO:+0200
TZNAME:CEST
DTSTART:20200329T010000
END:DAYLIGHT
BEGIN:STANDARD
TZOFFSETFROM:+0200
TZOFFSETTO:+0100
TZNAME:CET
DTSTART:20201025T010000
END:STANDARD
END:VTIMEZONE
BEGIN:VEVENT
DTSTART;VALUE=DATE:20191128
DTEND;VALUE=DATE:20191129
DTSTAMP:20260420T220936
CREATED:20190911T114625Z
LAST-MODIFIED:20190911T114625Z
UID:373604-1574899200-1574985599@www.recyclingmagazin.de
SUMMARY:Modernes Abfallmanagement für Industriestandorte und - betriebe
DESCRIPTION:Die Veranstaltung widmet sich den aktuellsten Aspekten und wichtigsten Fragestellungen\, mit denen sich die Abfallwirtschaft auseinandersetzt – von der Vermeidung von Abfällen und der Steigerung der Ressourceneffizienz bis hin zur Schaffung von Rechtssicherheit und dem Umgang mit knappen Entsorgungskapazitäten. In einer Vielzahl von Experten- und Praxisberichten erfahren Teilnehmer der Veranstaltung\, wie sie strukturelle Ziel- und Interessenkonflikte nachhaltig lösen können.
URL:https://www.recyclingmagazin.de/event/modernes-abfallmanagement-fuer-industriestandorte-und-betriebe-2/
LOCATION:Park Inn Hotel Berlin am Alexanderplatz\, Alexanderstraße 7\, Berlin\, 10178\, Deutschland
CATEGORIES:Tagung
END:VEVENT
END:VCALENDAR