BEGIN:VCALENDAR
VERSION:2.0
PRODID:-//RECYCLING magazin - ECPv6.15.20//NONSGML v1.0//EN
CALSCALE:GREGORIAN
METHOD:PUBLISH
X-WR-CALNAME:RECYCLING magazin
X-ORIGINAL-URL:https://www.recyclingmagazin.de
X-WR-CALDESC:Veranstaltungen für RECYCLING magazin
REFRESH-INTERVAL;VALUE=DURATION:PT1H
X-Robots-Tag:noindex
X-PUBLISHED-TTL:PT1H
BEGIN:VTIMEZONE
TZID:Europe/Berlin
BEGIN:DAYLIGHT
TZOFFSETFROM:+0100
TZOFFSETTO:+0200
TZNAME:CEST
DTSTART:20180325T010000
END:DAYLIGHT
BEGIN:STANDARD
TZOFFSETFROM:+0200
TZOFFSETTO:+0100
TZNAME:CET
DTSTART:20181028T010000
END:STANDARD
BEGIN:DAYLIGHT
TZOFFSETFROM:+0100
TZOFFSETTO:+0200
TZNAME:CEST
DTSTART:20190331T010000
END:DAYLIGHT
BEGIN:STANDARD
TZOFFSETFROM:+0200
TZOFFSETTO:+0100
TZNAME:CET
DTSTART:20191027T010000
END:STANDARD
BEGIN:DAYLIGHT
TZOFFSETFROM:+0100
TZOFFSETTO:+0200
TZNAME:CEST
DTSTART:20200329T010000
END:DAYLIGHT
BEGIN:STANDARD
TZOFFSETFROM:+0200
TZOFFSETTO:+0100
TZNAME:CET
DTSTART:20201025T010000
END:STANDARD
END:VTIMEZONE
BEGIN:VEVENT
DTSTART;VALUE=DATE:20190515
DTEND;VALUE=DATE:20190517
DTSTAMP:20260423T164720
CREATED:20190403T145654Z
LAST-MODIFIED:20190403T145654Z
UID:369966-1557878400-1558051199@www.recyclingmagazin.de
SUMMARY:Materialeffizienz bei der Composite-Produktion
DESCRIPTION:Durch Minimierung des Verschnitts oder durch den zielgerichteten Materialeinsatz lässt sich die Composite-Produktion auch kosteneffizienter gestalten. Dazu stehen neue Verfahren zur Verfügung\, die in dreizehn Vorträgen aus Industrie und Forschung zur Diskussion gestellt werden. Moderator der Fachtagung ist Manfred Reif der Dieffenbacher Maschinen- und Anlagenbau GmbH in Eppingen.
URL:https://www.recyclingmagazin.de/event/materialeffizienz-bei-der-composite-produktion/
LOCATION:RWTH Aachen\, Templergraben 55\, Aachen\, 52062\, Deutschland
CATEGORIES:Tagung
END:VEVENT
END:VCALENDAR