BEGIN:VCALENDAR
VERSION:2.0
PRODID:-//RECYCLING magazin - ECPv6.15.20//NONSGML v1.0//EN
CALSCALE:GREGORIAN
METHOD:PUBLISH
X-WR-CALNAME:RECYCLING magazin
X-ORIGINAL-URL:https://www.recyclingmagazin.de
X-WR-CALDESC:Veranstaltungen für RECYCLING magazin
REFRESH-INTERVAL;VALUE=DURATION:PT1H
X-Robots-Tag:noindex
X-PUBLISHED-TTL:PT1H
BEGIN:VTIMEZONE
TZID:Europe/Berlin
BEGIN:DAYLIGHT
TZOFFSETFROM:+0100
TZOFFSETTO:+0200
TZNAME:CEST
DTSTART:20160327T010000
END:DAYLIGHT
BEGIN:STANDARD
TZOFFSETFROM:+0200
TZOFFSETTO:+0100
TZNAME:CET
DTSTART:20161030T010000
END:STANDARD
BEGIN:DAYLIGHT
TZOFFSETFROM:+0100
TZOFFSETTO:+0200
TZNAME:CEST
DTSTART:20170326T010000
END:DAYLIGHT
BEGIN:STANDARD
TZOFFSETFROM:+0200
TZOFFSETTO:+0100
TZNAME:CET
DTSTART:20171029T010000
END:STANDARD
BEGIN:DAYLIGHT
TZOFFSETFROM:+0100
TZOFFSETTO:+0200
TZNAME:CEST
DTSTART:20180325T010000
END:DAYLIGHT
BEGIN:STANDARD
TZOFFSETFROM:+0200
TZOFFSETTO:+0100
TZNAME:CET
DTSTART:20181028T010000
END:STANDARD
END:VTIMEZONE
BEGIN:VEVENT
DTSTART;VALUE=DATE:20170530
DTEND;VALUE=DATE:20170601
DTSTAMP:20260423T103532
CREATED:20170317T112949Z
LAST-MODIFIED:20170317T112949Z
UID:355794-1496102400-1496275199@www.recyclingmagazin.de
SUMMARY:Marktchancen Regelenergie
DESCRIPTION:In dem 2-tägigen Seminar „Marktchancen Regelenergie“ erfahren Sie\, wie Sie die Chancen am Markt für Regelenergieprodukte und etwaige Risiken analysieren können. Sie lernen\, passende Vermarktungsstrategien zu konzipieren und diese erfolgreich umzusetzen.
URL:https://www.recyclingmagazin.de/event/marktchancen-regelenergie/
LOCATION:Leonardo Hotel Hamburg City Nord\, Mexikoring 1\, Hamburg\, 22297\, Deutschland
CATEGORIES:Seminar
END:VEVENT
END:VCALENDAR