BEGIN:VCALENDAR
VERSION:2.0
PRODID:-//RECYCLING magazin - ECPv6.15.20//NONSGML v1.0//EN
CALSCALE:GREGORIAN
METHOD:PUBLISH
X-WR-CALNAME:RECYCLING magazin
X-ORIGINAL-URL:https://www.recyclingmagazin.de
X-WR-CALDESC:Veranstaltungen für RECYCLING magazin
REFRESH-INTERVAL;VALUE=DURATION:PT1H
X-Robots-Tag:noindex
X-PUBLISHED-TTL:PT1H
BEGIN:VTIMEZONE
TZID:Europe/Berlin
BEGIN:DAYLIGHT
TZOFFSETFROM:+0100
TZOFFSETTO:+0200
TZNAME:CEST
DTSTART:20180325T010000
END:DAYLIGHT
BEGIN:STANDARD
TZOFFSETFROM:+0200
TZOFFSETTO:+0100
TZNAME:CET
DTSTART:20181028T010000
END:STANDARD
BEGIN:DAYLIGHT
TZOFFSETFROM:+0100
TZOFFSETTO:+0200
TZNAME:CEST
DTSTART:20190331T010000
END:DAYLIGHT
BEGIN:STANDARD
TZOFFSETFROM:+0200
TZOFFSETTO:+0100
TZNAME:CET
DTSTART:20191027T010000
END:STANDARD
BEGIN:DAYLIGHT
TZOFFSETFROM:+0100
TZOFFSETTO:+0200
TZNAME:CEST
DTSTART:20200329T010000
END:DAYLIGHT
BEGIN:STANDARD
TZOFFSETFROM:+0200
TZOFFSETTO:+0100
TZNAME:CET
DTSTART:20201025T010000
END:STANDARD
END:VTIMEZONE
BEGIN:VEVENT
DTSTART;VALUE=DATE:20191023
DTEND;VALUE=DATE:20191025
DTSTAMP:20260421T045424
CREATED:20190731T121207Z
LAST-MODIFIED:20190731T121227Z
UID:373110-1571788800-1571961599@www.recyclingmagazin.de
SUMMARY:KONGRESS BW
DESCRIPTION:Der KONGRESS BW ist die führende Plattform für Information\, Innovation und Transformation im Bereich der Ressourceneffizienz- und Kreislaufwirtschaft. Zwischen 800 und 1.000 Teilnehmende treffen sich jährlich im Wechsel in Stuttgart oder Karlsruhe\, um sich zu aktuellen Trends und kommenden Themen intensiv auszutauschen. Hervorzuheben ist der hohe Anteil an Führungskräften aus Entwicklung\, Produktion und Management. Praxis trifft auf Wissenschaft trifft auf Politik. Die Kombination aus thematisch übergeordneten Plenen und Detailbetrachtungen in den Foren ist in dieser Breite und Tiefe einzigartig.
URL:https://www.recyclingmagazin.de/event/kongress-bw/
LOCATION:Filderhalle\, Bahnhofstraße 61\, Leinfelden-Echterdingen\, 70771\, Deutschland
CATEGORIES:Kongress
END:VEVENT
END:VCALENDAR