BEGIN:VCALENDAR
VERSION:2.0
PRODID:-//RECYCLING magazin - ECPv6.15.20//NONSGML v1.0//EN
CALSCALE:GREGORIAN
METHOD:PUBLISH
X-WR-CALNAME:RECYCLING magazin
X-ORIGINAL-URL:https://www.recyclingmagazin.de
X-WR-CALDESC:Veranstaltungen für RECYCLING magazin
REFRESH-INTERVAL;VALUE=DURATION:PT1H
X-Robots-Tag:noindex
X-PUBLISHED-TTL:PT1H
BEGIN:VTIMEZONE
TZID:Europe/Berlin
BEGIN:DAYLIGHT
TZOFFSETFROM:+0100
TZOFFSETTO:+0200
TZNAME:CEST
DTSTART:20170326T010000
END:DAYLIGHT
BEGIN:STANDARD
TZOFFSETFROM:+0200
TZOFFSETTO:+0100
TZNAME:CET
DTSTART:20171029T010000
END:STANDARD
BEGIN:DAYLIGHT
TZOFFSETFROM:+0100
TZOFFSETTO:+0200
TZNAME:CEST
DTSTART:20180325T010000
END:DAYLIGHT
BEGIN:STANDARD
TZOFFSETFROM:+0200
TZOFFSETTO:+0100
TZNAME:CET
DTSTART:20181028T010000
END:STANDARD
BEGIN:DAYLIGHT
TZOFFSETFROM:+0100
TZOFFSETTO:+0200
TZNAME:CEST
DTSTART:20190331T010000
END:DAYLIGHT
BEGIN:STANDARD
TZOFFSETFROM:+0200
TZOFFSETTO:+0100
TZNAME:CET
DTSTART:20191027T010000
END:STANDARD
END:VTIMEZONE
BEGIN:VEVENT
DTSTART;VALUE=DATE:20180124
DTEND;VALUE=DATE:20180126
DTSTAMP:20260420T015847
CREATED:20171212T163149Z
LAST-MODIFIED:20171212T163149Z
UID:360829-1516752000-1516924799@www.recyclingmagazin.de
SUMMARY:Kombinierter Fortbildungslehrgang nach § 9 Entsorgungsfachbetriebeverordnung und nach § 5 Anzeige- und Erlaubnisverordnung sowie nach § 9 Abfallbeauftragtenverordnung
DESCRIPTION:Zielgruppe: \nVerantwortliche Personen nach § 9 EfbV und § 5 AbfAEV sowie Betriebsbeauftragte für Abfall\, die bereits einen entsprechenden Grundlehrgang absolviert haben.
URL:https://www.recyclingmagazin.de/event/kombinierter-fortbildungslehrgang-nach-%c2%a7-9-entsorgungsfachbetriebeverordnung-und-nach-%c2%a7-5-anzeige-und-erlaubnisverordnung-sowie-nach-%c2%a7-9-abfallbeauftragtenverordnung/
LOCATION:bvse-Bildungszentrum\, Hohe Straße 73\, Bonn\, 53119
CATEGORIES:Seminar
ORGANIZER;CN="bvse-recyconsult":MAILTO:info@bvse.de
END:VEVENT
END:VCALENDAR