BEGIN:VCALENDAR
VERSION:2.0
PRODID:-//RECYCLING magazin - ECPv6.15.20//NONSGML v1.0//EN
CALSCALE:GREGORIAN
METHOD:PUBLISH
X-WR-CALNAME:RECYCLING magazin
X-ORIGINAL-URL:https://www.recyclingmagazin.de
X-WR-CALDESC:Veranstaltungen für RECYCLING magazin
REFRESH-INTERVAL;VALUE=DURATION:PT1H
X-Robots-Tag:noindex
X-PUBLISHED-TTL:PT1H
BEGIN:VTIMEZONE
TZID:Europe/Berlin
BEGIN:DAYLIGHT
TZOFFSETFROM:+0100
TZOFFSETTO:+0200
TZNAME:CEST
DTSTART:20160327T010000
END:DAYLIGHT
BEGIN:STANDARD
TZOFFSETFROM:+0200
TZOFFSETTO:+0100
TZNAME:CET
DTSTART:20161030T010000
END:STANDARD
BEGIN:DAYLIGHT
TZOFFSETFROM:+0100
TZOFFSETTO:+0200
TZNAME:CEST
DTSTART:20170326T010000
END:DAYLIGHT
BEGIN:STANDARD
TZOFFSETFROM:+0200
TZOFFSETTO:+0100
TZNAME:CET
DTSTART:20171029T010000
END:STANDARD
BEGIN:DAYLIGHT
TZOFFSETFROM:+0100
TZOFFSETTO:+0200
TZNAME:CEST
DTSTART:20180325T010000
END:DAYLIGHT
BEGIN:STANDARD
TZOFFSETFROM:+0200
TZOFFSETTO:+0100
TZNAME:CET
DTSTART:20181028T010000
END:STANDARD
END:VTIMEZONE
BEGIN:VEVENT
DTSTART;VALUE=DATE:20170405
DTEND;VALUE=DATE:20170407
DTSTAMP:20260420T122948
CREATED:20170317T110858Z
LAST-MODIFIED:20170317T111123Z
UID:355774-1491350400-1491523199@www.recyclingmagazin.de
SUMMARY:Instandhaltung\, Revisionen und Optimierung für Kraftwerksbetreiber
DESCRIPTION:Der optimale Betrieb für Kraftwerke ist eine verfahrens- und betriebstechnische Herausforderung. In Abhängigkeit der priorisierten Erzeugungsmedien müssen Instandhaltungsentscheidungen die Anlagenverfügbarkeit im Fokus haben. Die Abwicklung gelingt unter der Voraussetzung einer durchdachten Planung.
URL:https://www.recyclingmagazin.de/event/instandhaltung-revisionen-und-optimierung-fuer-kraftwerksbetreiber/
LOCATION:NH Düsseldorf City Nord\, Münsterstraße 230-238\, Düsseldorf\, 40470\, Deutschland
CATEGORIES:Seminar
END:VEVENT
END:VCALENDAR