BEGIN:VCALENDAR
VERSION:2.0
PRODID:-//RECYCLING magazin - ECPv6.15.20//NONSGML v1.0//EN
CALSCALE:GREGORIAN
METHOD:PUBLISH
X-WR-CALNAME:RECYCLING magazin
X-ORIGINAL-URL:https://www.recyclingmagazin.de
X-WR-CALDESC:Veranstaltungen für RECYCLING magazin
REFRESH-INTERVAL;VALUE=DURATION:PT1H
X-Robots-Tag:noindex
X-PUBLISHED-TTL:PT1H
BEGIN:VTIMEZONE
TZID:Europe/Berlin
BEGIN:DAYLIGHT
TZOFFSETFROM:+0100
TZOFFSETTO:+0200
TZNAME:CEST
DTSTART:20180325T010000
END:DAYLIGHT
BEGIN:STANDARD
TZOFFSETFROM:+0200
TZOFFSETTO:+0100
TZNAME:CET
DTSTART:20181028T010000
END:STANDARD
BEGIN:DAYLIGHT
TZOFFSETFROM:+0100
TZOFFSETTO:+0200
TZNAME:CEST
DTSTART:20190331T010000
END:DAYLIGHT
BEGIN:STANDARD
TZOFFSETFROM:+0200
TZOFFSETTO:+0100
TZNAME:CET
DTSTART:20191027T010000
END:STANDARD
BEGIN:DAYLIGHT
TZOFFSETFROM:+0100
TZOFFSETTO:+0200
TZNAME:CEST
DTSTART:20200329T010000
END:DAYLIGHT
BEGIN:STANDARD
TZOFFSETFROM:+0200
TZOFFSETTO:+0100
TZNAME:CET
DTSTART:20201025T010000
END:STANDARD
END:VTIMEZONE
BEGIN:VEVENT
DTSTART;VALUE=DATE:20190925
DTEND;VALUE=DATE:20190926
DTSTAMP:20260421T034516
CREATED:20190731T103306Z
LAST-MODIFIED:20190731T112343Z
UID:373094-1569369600-1569455999@www.recyclingmagazin.de
SUMMARY:Informationsveranstaltung für deutsche Unternehmen zum Thema Abfall- und Recyclingwirtschaft in Indien
DESCRIPTION:Am 25. September 2019 führt der Bundesverband mittelständischer Wirtschaft e.V. (BVMW)\, im Auftrag des Bundesministeriums für Wirtschaft und Energie (BMWi)\, eine Informationsveranstaltung zum Thema Abfall- und Recyclingwirtschaft für den Zielmarkt Indien in der bvse-Geschäftsstelle in Bonn durch. Anmeldeschluss ist der 6. September.
URL:https://www.recyclingmagazin.de/event/informationsveranstaltung-fuer-deutsche-unternehmen-zum-thema-abfall-und-recyclingwirtschaft-in-indien/
LOCATION:bvse-Bildungszentrum\, Fränkische Straße 2\, Bonn\, 53229\, Deutschland
CATEGORIES:Seminar
END:VEVENT
END:VCALENDAR