BEGIN:VCALENDAR
VERSION:2.0
PRODID:-//RECYCLING magazin - ECPv6.15.20//NONSGML v1.0//EN
CALSCALE:GREGORIAN
METHOD:PUBLISH
X-WR-CALNAME:RECYCLING magazin
X-ORIGINAL-URL:https://www.recyclingmagazin.de
X-WR-CALDESC:Veranstaltungen für RECYCLING magazin
REFRESH-INTERVAL;VALUE=DURATION:PT1H
X-Robots-Tag:noindex
X-PUBLISHED-TTL:PT1H
BEGIN:VTIMEZONE
TZID:Europe/Berlin
BEGIN:DAYLIGHT
TZOFFSETFROM:+0100
TZOFFSETTO:+0200
TZNAME:CEST
DTSTART:20170326T010000
END:DAYLIGHT
BEGIN:STANDARD
TZOFFSETFROM:+0200
TZOFFSETTO:+0100
TZNAME:CET
DTSTART:20171029T010000
END:STANDARD
BEGIN:DAYLIGHT
TZOFFSETFROM:+0100
TZOFFSETTO:+0200
TZNAME:CEST
DTSTART:20180325T010000
END:DAYLIGHT
BEGIN:STANDARD
TZOFFSETFROM:+0200
TZOFFSETTO:+0100
TZNAME:CET
DTSTART:20181028T010000
END:STANDARD
BEGIN:DAYLIGHT
TZOFFSETFROM:+0100
TZOFFSETTO:+0200
TZNAME:CEST
DTSTART:20190331T010000
END:DAYLIGHT
BEGIN:STANDARD
TZOFFSETFROM:+0200
TZOFFSETTO:+0100
TZNAME:CET
DTSTART:20191027T010000
END:STANDARD
END:VTIMEZONE
BEGIN:VEVENT
DTSTART;VALUE=DATE:20180215
DTEND;VALUE=DATE:20180216
DTSTAMP:20260420T014613
CREATED:20171115T193642Z
LAST-MODIFIED:20171115T193813Z
UID:360388-1518652800-1518739199@www.recyclingmagazin.de
SUMMARY:Industrie 4.0 – „Innovations in the Public Service Sector"
DESCRIPTION:Das Hasso-Plattner-Institut (HPI) veranstaltet am 15. Februar 2018 die vierte Industrie 4.0-Konferenz und betrachtet dabei Fragen zur Digitalisierung aus wirtschaftlicher und wissenschaftlicher Perspektive. An der Veranstaltung nehmen Vertreter aus Politik\, Wirtschaft\, Wissenschaft und Gesellschaft teil und sprechen über neue Entwicklungen im „Internet der Dinge“.
URL:https://www.recyclingmagazin.de/event/industrie-4-0-innovations-in-the-public-service-sector/
LOCATION:Hasso-Plattner-Institut\, Prof.-Dr.-Helmert-Straße 2-3\, Potsdam\, 14482\, Deutschland
CATEGORIES:Konferenz
END:VEVENT
END:VCALENDAR