BEGIN:VCALENDAR
VERSION:2.0
PRODID:-//RECYCLING magazin - ECPv6.15.20//NONSGML v1.0//EN
CALSCALE:GREGORIAN
METHOD:PUBLISH
X-WR-CALNAME:RECYCLING magazin
X-ORIGINAL-URL:https://www.recyclingmagazin.de
X-WR-CALDESC:Veranstaltungen für RECYCLING magazin
REFRESH-INTERVAL;VALUE=DURATION:PT1H
X-Robots-Tag:noindex
X-PUBLISHED-TTL:PT1H
BEGIN:VTIMEZONE
TZID:Europe/Berlin
BEGIN:DAYLIGHT
TZOFFSETFROM:+0100
TZOFFSETTO:+0200
TZNAME:CEST
DTSTART:20180325T010000
END:DAYLIGHT
BEGIN:STANDARD
TZOFFSETFROM:+0200
TZOFFSETTO:+0100
TZNAME:CET
DTSTART:20181028T010000
END:STANDARD
BEGIN:DAYLIGHT
TZOFFSETFROM:+0100
TZOFFSETTO:+0200
TZNAME:CEST
DTSTART:20190331T010000
END:DAYLIGHT
BEGIN:STANDARD
TZOFFSETFROM:+0200
TZOFFSETTO:+0100
TZNAME:CET
DTSTART:20191027T010000
END:STANDARD
BEGIN:DAYLIGHT
TZOFFSETFROM:+0100
TZOFFSETTO:+0200
TZNAME:CEST
DTSTART:20200329T010000
END:DAYLIGHT
BEGIN:STANDARD
TZOFFSETFROM:+0200
TZOFFSETTO:+0100
TZNAME:CET
DTSTART:20201025T010000
END:STANDARD
END:VTIMEZONE
BEGIN:VEVENT
DTSTART;VALUE=DATE:20190307
DTEND;VALUE=DATE:20190309
DTSTAMP:20260423T225634
CREATED:20181031T141618Z
LAST-MODIFIED:20181031T143201Z
UID:366643-1551916800-1552089599@www.recyclingmagazin.de
SUMMARY:IdentiPlast 2019
DESCRIPTION:14th International Conference on the Recycling and Recovery of Plastics \nDie IdentiPlast ist das zentrale europäische Forum zur Verwertung von gebrauchten Kunststoffen. Sie informiert über globale\, regionale und lokale Fortschritte bei der Sammlung\, Sortierung und Verwertung von Kunststoffabfällen und trägt dazu bei\, den Dialog und Wissensaustausch dazu auf ein breites Fundament zu stellen. Die zweitägige internationale Tagung findet jedes Mal in einer anderen europäischen Metropole statt. Die Idee dahinter: Die IdentiPlast soll dort präsent sein\, wo es größeren Nachholbedarf in Sachen Kunststoffverwertung gibt.
URL:https://www.recyclingmagazin.de/event/identiplast-2019/
LOCATION:QEII Centre\, Broad Sanctuary\, London\, Westminster\, SW1P 3EE\, Deutschland
CATEGORIES:Konferenz
END:VEVENT
END:VCALENDAR