BEGIN:VCALENDAR
VERSION:2.0
PRODID:-//RECYCLING magazin - ECPv6.15.20//NONSGML v1.0//EN
CALSCALE:GREGORIAN
METHOD:PUBLISH
X-WR-CALNAME:RECYCLING magazin
X-ORIGINAL-URL:https://www.recyclingmagazin.de
X-WR-CALDESC:Veranstaltungen für RECYCLING magazin
REFRESH-INTERVAL;VALUE=DURATION:PT1H
X-Robots-Tag:noindex
X-PUBLISHED-TTL:PT1H
BEGIN:VTIMEZONE
TZID:Europe/Berlin
BEGIN:DAYLIGHT
TZOFFSETFROM:+0100
TZOFFSETTO:+0200
TZNAME:CEST
DTSTART:20160327T010000
END:DAYLIGHT
BEGIN:STANDARD
TZOFFSETFROM:+0200
TZOFFSETTO:+0100
TZNAME:CET
DTSTART:20161030T010000
END:STANDARD
BEGIN:DAYLIGHT
TZOFFSETFROM:+0100
TZOFFSETTO:+0200
TZNAME:CEST
DTSTART:20170326T010000
END:DAYLIGHT
BEGIN:STANDARD
TZOFFSETFROM:+0200
TZOFFSETTO:+0100
TZNAME:CET
DTSTART:20171029T010000
END:STANDARD
BEGIN:DAYLIGHT
TZOFFSETFROM:+0100
TZOFFSETTO:+0200
TZNAME:CEST
DTSTART:20180325T010000
END:DAYLIGHT
BEGIN:STANDARD
TZOFFSETFROM:+0200
TZOFFSETTO:+0100
TZNAME:CET
DTSTART:20181028T010000
END:STANDARD
END:VTIMEZONE
BEGIN:VEVENT
DTSTART;VALUE=DATE:20171107
DTEND;VALUE=DATE:20171109
DTSTAMP:20260419T173834
CREATED:20170124T164643Z
LAST-MODIFIED:20170124T164643Z
UID:354677-1510012800-1510185599@www.recyclingmagazin.de
SUMMARY:ICE-CON
DESCRIPTION:Die International Circular Economy Conference & Exhibition (ICE-CON) findet erstmals am 7. und 8. November 2017 in Santa Clara\, Kalifornien statt. Die Konferenz mit begleitender Fachmesse dreht sich um Strategien und Technologien für die Kreislaufwirtschaft. Themenschwerpunkte sind zukunftsweisende Abfallbehandlungskonzepte\, „Urban Mining“\, Sekundärrohstoffe\, Energie aus Abfall\, innovative Erfassungs-\, Sortier- und Behandlungstechnik. Die ICE-CON setzt dabei auf einen starken internationalen Erfahrungsaustausch und bringt Anbieter aus Europa gezielt mit amerikanischen Auftraggebern zusammen.
URL:https://www.recyclingmagazin.de/event/ice-con/
LOCATION:Santa clara\, Santa Clara\, Californien\, Vereinigte Staaten
CATEGORIES:Messe
END:VEVENT
END:VCALENDAR