BEGIN:VCALENDAR
VERSION:2.0
PRODID:-//RECYCLING magazin - ECPv6.15.20//NONSGML v1.0//EN
CALSCALE:GREGORIAN
METHOD:PUBLISH
X-WR-CALNAME:RECYCLING magazin
X-ORIGINAL-URL:https://www.recyclingmagazin.de
X-WR-CALDESC:Veranstaltungen für RECYCLING magazin
REFRESH-INTERVAL;VALUE=DURATION:PT1H
X-Robots-Tag:noindex
X-PUBLISHED-TTL:PT1H
BEGIN:VTIMEZONE
TZID:Europe/Berlin
BEGIN:DAYLIGHT
TZOFFSETFROM:+0100
TZOFFSETTO:+0200
TZNAME:CEST
DTSTART:20160327T010000
END:DAYLIGHT
BEGIN:STANDARD
TZOFFSETFROM:+0200
TZOFFSETTO:+0100
TZNAME:CET
DTSTART:20161030T010000
END:STANDARD
BEGIN:DAYLIGHT
TZOFFSETFROM:+0100
TZOFFSETTO:+0200
TZNAME:CEST
DTSTART:20170326T010000
END:DAYLIGHT
BEGIN:STANDARD
TZOFFSETFROM:+0200
TZOFFSETTO:+0100
TZNAME:CET
DTSTART:20171029T010000
END:STANDARD
BEGIN:DAYLIGHT
TZOFFSETFROM:+0100
TZOFFSETTO:+0200
TZNAME:CEST
DTSTART:20180325T010000
END:DAYLIGHT
BEGIN:STANDARD
TZOFFSETFROM:+0200
TZOFFSETTO:+0100
TZNAME:CET
DTSTART:20181028T010000
END:STANDARD
END:VTIMEZONE
BEGIN:VEVENT
DTSTART;VALUE=DATE:20170620
DTEND;VALUE=DATE:20170621
DTSTAMP:20260420T100632
CREATED:20170606T135751Z
LAST-MODIFIED:20170607T175202Z
UID:357106-1497916800-1498003199@www.recyclingmagazin.de
SUMMARY:Grundlagen der Kundenorientierung
DESCRIPTION:Kunden gelten als die wichtigsten Personen im Unternehmen. Sollte dies stimmen\, müssten wir unseren Kunden alle Wünsche von den Augen ablesen. In der Praxis sieht dies oft anders aus. Die Sperrmüllabfuhr soll in zwei Tagen und nicht erst in drei Wochen erfolgen.
URL:https://www.recyclingmagazin.de/event/grundlagen-der-kundenorientierung/
LOCATION:LQM Marktforschung GmbH\, Augustinergäßchen 6\, Mainz\, 55116 \, Deutschland
CATEGORIES:Seminar
END:VEVENT
END:VCALENDAR