BEGIN:VCALENDAR
VERSION:2.0
PRODID:-//RECYCLING magazin - ECPv6.15.20//NONSGML v1.0//EN
CALSCALE:GREGORIAN
METHOD:PUBLISH
X-WR-CALNAME:RECYCLING magazin
X-ORIGINAL-URL:https://www.recyclingmagazin.de
X-WR-CALDESC:Veranstaltungen für RECYCLING magazin
REFRESH-INTERVAL;VALUE=DURATION:PT1H
X-Robots-Tag:noindex
X-PUBLISHED-TTL:PT1H
BEGIN:VTIMEZONE
TZID:Europe/Berlin
BEGIN:DAYLIGHT
TZOFFSETFROM:+0100
TZOFFSETTO:+0200
TZNAME:CEST
DTSTART:20160327T010000
END:DAYLIGHT
BEGIN:STANDARD
TZOFFSETFROM:+0200
TZOFFSETTO:+0100
TZNAME:CET
DTSTART:20161030T010000
END:STANDARD
BEGIN:DAYLIGHT
TZOFFSETFROM:+0100
TZOFFSETTO:+0200
TZNAME:CEST
DTSTART:20170326T010000
END:DAYLIGHT
BEGIN:STANDARD
TZOFFSETFROM:+0200
TZOFFSETTO:+0100
TZNAME:CET
DTSTART:20171029T010000
END:STANDARD
BEGIN:DAYLIGHT
TZOFFSETFROM:+0100
TZOFFSETTO:+0200
TZNAME:CEST
DTSTART:20180325T010000
END:DAYLIGHT
BEGIN:STANDARD
TZOFFSETFROM:+0200
TZOFFSETTO:+0100
TZNAME:CET
DTSTART:20181028T010000
END:STANDARD
END:VTIMEZONE
BEGIN:VEVENT
DTSTART;VALUE=DATE:20170703
DTEND;VALUE=DATE:20170708
DTSTAMP:20260420T180446
CREATED:20170317T121749Z
LAST-MODIFIED:20170317T121749Z
UID:355823-1499040000-1499471999@www.recyclingmagazin.de
SUMMARY:Grünanlagen und Forsten
DESCRIPTION:Das öffentliche Grün bildet Oasen mitten in der Stadt. Es schafft Lebensqualität.  Es ermöglicht Erholung. Es ist stets einzigartig. Somit ist öffentliches Grün das Ergebnis großen handwerklichen Geschicks. Leider vergessen dies oft Politiker und Kämmerer\, indem sie die finanziellen Möglichkeiten oft erheblich einengen. Das Ergebnis ist eine zunehmende Abkehr vom kreativen Parkkonzept und eine Hinwendung zu einfacher Gestaltung\, die mit intensivem maschinellen Einsatz kostengünstig pflegbar ist. Zurzeit ist somit Management gefordert\, wie mit begrenzten Mitteln das öffentliche Grün gut wirken kann.
URL:https://www.recyclingmagazin.de/event/gruenanlagen-und-forsten/
LOCATION:LÜNTEC-Technologiezentrum Lünen\, Brambauer\, Am Brambusch 24\, Lünen\, 44536 \, Deutschland
CATEGORIES:Seminar
END:VEVENT
END:VCALENDAR