BEGIN:VCALENDAR
VERSION:2.0
PRODID:-//RECYCLING magazin - ECPv6.15.20//NONSGML v1.0//EN
CALSCALE:GREGORIAN
METHOD:PUBLISH
X-WR-CALNAME:RECYCLING magazin
X-ORIGINAL-URL:https://www.recyclingmagazin.de
X-WR-CALDESC:Veranstaltungen für RECYCLING magazin
REFRESH-INTERVAL;VALUE=DURATION:PT1H
X-Robots-Tag:noindex
X-PUBLISHED-TTL:PT1H
BEGIN:VTIMEZONE
TZID:Europe/Berlin
BEGIN:DAYLIGHT
TZOFFSETFROM:+0100
TZOFFSETTO:+0200
TZNAME:CEST
DTSTART:20180325T010000
END:DAYLIGHT
BEGIN:STANDARD
TZOFFSETFROM:+0200
TZOFFSETTO:+0100
TZNAME:CET
DTSTART:20181028T010000
END:STANDARD
BEGIN:DAYLIGHT
TZOFFSETFROM:+0100
TZOFFSETTO:+0200
TZNAME:CEST
DTSTART:20190331T010000
END:DAYLIGHT
BEGIN:STANDARD
TZOFFSETFROM:+0200
TZOFFSETTO:+0100
TZNAME:CET
DTSTART:20191027T010000
END:STANDARD
BEGIN:DAYLIGHT
TZOFFSETFROM:+0100
TZOFFSETTO:+0200
TZNAME:CEST
DTSTART:20200329T010000
END:DAYLIGHT
BEGIN:STANDARD
TZOFFSETFROM:+0200
TZOFFSETTO:+0100
TZNAME:CET
DTSTART:20201025T010000
END:STANDARD
END:VTIMEZONE
BEGIN:VEVENT
DTSTART;TZID=Europe/Berlin:20190416T100000
DTEND;TZID=Europe/Berlin:20190416T120000
DTSTAMP:20260423T182549
CREATED:20190403T144639Z
LAST-MODIFIED:20190403T144639Z
UID:369957-1555408800-1555416000@www.recyclingmagazin.de
SUMMARY:Gesetze der Kreislaufwirtschaft – Der Weg der Verpackungen
DESCRIPTION:die Handelskammer Hamburg und take-e-way bieten Ihnen am 16. April eine kostenlose Informationsveranstaltung zum Thema „Gesetze der Kreislaufwirtschaft – Der Weg der Verpackungen“ an. Schwerpunkte sind Verpackungsgesetz und Gewerbeabfallverordnung.
URL:https://www.recyclingmagazin.de/event/gesetze-der-kreislaufwirtschaft-der-weg-der-verpackungen/
LOCATION:Handelskammer Hamburg\, Adolphsplatz 1\, Hamburg\, 20457 \, Deutschland
CATEGORIES:Seminar
END:VEVENT
END:VCALENDAR