BEGIN:VCALENDAR
VERSION:2.0
PRODID:-//RECYCLING magazin - ECPv6.15.20//NONSGML v1.0//EN
CALSCALE:GREGORIAN
METHOD:PUBLISH
X-WR-CALNAME:RECYCLING magazin
X-ORIGINAL-URL:https://www.recyclingmagazin.de
X-WR-CALDESC:Veranstaltungen für RECYCLING magazin
REFRESH-INTERVAL;VALUE=DURATION:PT1H
X-Robots-Tag:noindex
X-PUBLISHED-TTL:PT1H
BEGIN:VTIMEZONE
TZID:Europe/Berlin
BEGIN:DAYLIGHT
TZOFFSETFROM:+0100
TZOFFSETTO:+0200
TZNAME:CEST
DTSTART:20190331T010000
END:DAYLIGHT
BEGIN:STANDARD
TZOFFSETFROM:+0200
TZOFFSETTO:+0100
TZNAME:CET
DTSTART:20191027T010000
END:STANDARD
BEGIN:DAYLIGHT
TZOFFSETFROM:+0100
TZOFFSETTO:+0200
TZNAME:CEST
DTSTART:20200329T010000
END:DAYLIGHT
BEGIN:STANDARD
TZOFFSETFROM:+0200
TZOFFSETTO:+0100
TZNAME:CET
DTSTART:20201025T010000
END:STANDARD
BEGIN:DAYLIGHT
TZOFFSETFROM:+0100
TZOFFSETTO:+0200
TZNAME:CEST
DTSTART:20210328T010000
END:DAYLIGHT
BEGIN:STANDARD
TZOFFSETFROM:+0200
TZOFFSETTO:+0100
TZNAME:CET
DTSTART:20211031T010000
END:STANDARD
END:VTIMEZONE
BEGIN:VEVENT
DTSTART;VALUE=DATE:20200427
DTEND;VALUE=DATE:20200428
DTSTAMP:20260420T065151
CREATED:20190430T134723Z
LAST-MODIFIED:20200212T124316Z
UID:370714-1587945600-1588031999@www.recyclingmagazin.de
SUMMARY:Gefährliche Abfälle lagern
DESCRIPTION:Die Abgrenzung zwischen Abfall (nicht gefährlicher und gefährlicher Abfall)\, Gefahrstoff und Gefahrgut ist oftmals schwierig. Für ein und denselben Stoff bzw. Abfall gelten je nach Beschaffenheit oder Verwendung unterschiedliche Vorschriften\, die es zu beachten gilt.\nDas Seminar schafft Klarheit über die Grauzone zwischen Gefahrstoffen\, Gefahrgut und gefährlichen Abfällen. Die grundlegende Gesetzgebung wird praxisnah besprochen. Hauptbestandteil des Seminars ist es darzulegen\, welche Auswirkungen die Abgrenzung von Gefahrstoff\, Gefahrgut und gefährlichen Abfällen auf das Tagesgeschäft hat. Neben den gesetzlichen Rahmenbedingungen werden die Einstufung von Abfällen und der Transport von gefährlichen Abfällen besprochen. Zudem wird die Abgrenzung zum Gefahrgut erläutert.
URL:https://www.recyclingmagazin.de/event/gefaehrliche-abfaelle-lagern-2/
LOCATION:InterCity Hotel Hamburg Hauptbahnhof\, Glockengießerwall 14\, Hamburg\, 20095\, Deutschland
CATEGORIES:Seminar
END:VEVENT
END:VCALENDAR