BEGIN:VCALENDAR
VERSION:2.0
PRODID:-//RECYCLING magazin - ECPv6.15.20//NONSGML v1.0//EN
CALSCALE:GREGORIAN
METHOD:PUBLISH
X-WR-CALNAME:RECYCLING magazin
X-ORIGINAL-URL:https://www.recyclingmagazin.de
X-WR-CALDESC:Veranstaltungen für RECYCLING magazin
REFRESH-INTERVAL;VALUE=DURATION:PT1H
X-Robots-Tag:noindex
X-PUBLISHED-TTL:PT1H
BEGIN:VTIMEZONE
TZID:Europe/Berlin
BEGIN:DAYLIGHT
TZOFFSETFROM:+0100
TZOFFSETTO:+0200
TZNAME:CEST
DTSTART:20170326T010000
END:DAYLIGHT
BEGIN:STANDARD
TZOFFSETFROM:+0200
TZOFFSETTO:+0100
TZNAME:CET
DTSTART:20171029T010000
END:STANDARD
BEGIN:DAYLIGHT
TZOFFSETFROM:+0100
TZOFFSETTO:+0200
TZNAME:CEST
DTSTART:20180325T010000
END:DAYLIGHT
BEGIN:STANDARD
TZOFFSETFROM:+0200
TZOFFSETTO:+0100
TZNAME:CET
DTSTART:20181028T010000
END:STANDARD
BEGIN:DAYLIGHT
TZOFFSETFROM:+0100
TZOFFSETTO:+0200
TZNAME:CEST
DTSTART:20190331T010000
END:DAYLIGHT
BEGIN:STANDARD
TZOFFSETFROM:+0200
TZOFFSETTO:+0100
TZNAME:CET
DTSTART:20191027T010000
END:STANDARD
END:VTIMEZONE
BEGIN:VEVENT
DTSTART;VALUE=DATE:20181001
DTEND;VALUE=DATE:20181002
DTSTAMP:20260425T122223
CREATED:20180717T143027Z
LAST-MODIFIED:20180717T143200Z
UID:364663-1538352000-1538438399@www.recyclingmagazin.de
SUMMARY:Gebrauchsmusterrecht in Deutschland und China
DESCRIPTION:Die Teilnehmer erhalten durch einen erfahrenen Patentanwalt der Patentanwaltskanzlei Kraus & Weisert PartGmbB eine kompetente Einführung in das Thema Gebrauchsmusterrecht sowie praxisorientierte Handlungsempfehlungen\, um im internationalen Wettbewerb beim Thema deutsches/chinesisches Gebrauchsmuster gut aufgestellt zu sein. Das Seminar soll Entscheidungsträgern und Interessenten in Unternehmen dabei helfen\, sich mit dieser Thematik auseinanderzusetzen. \nFür Vereinsmitglieder kostenfrei. Auch interessierten Nicht-Mitgliedern steht die Teilnahme gegen Zahlung eines Unkostenbeitrags in Höhe von 150\,00 € zzgl. MWSt. offen.
URL:https://www.recyclingmagazin.de/event/gebrauchsmusterrecht-in-deutschland-und-china/
LOCATION:Geschäftsstelle kunststoffland NRW\, Düsseldorf\, Grafenberger Allee 277-287\, Düsseldorf\, 40237\, Deutschland
CATEGORIES:Seminar
END:VEVENT
END:VCALENDAR