BEGIN:VCALENDAR
VERSION:2.0
PRODID:-//RECYCLING magazin - ECPv6.15.20//NONSGML v1.0//EN
CALSCALE:GREGORIAN
METHOD:PUBLISH
X-WR-CALNAME:RECYCLING magazin
X-ORIGINAL-URL:https://www.recyclingmagazin.de
X-WR-CALDESC:Veranstaltungen für RECYCLING magazin
REFRESH-INTERVAL;VALUE=DURATION:PT1H
X-Robots-Tag:noindex
X-PUBLISHED-TTL:PT1H
BEGIN:VTIMEZONE
TZID:Europe/Berlin
BEGIN:DAYLIGHT
TZOFFSETFROM:+0100
TZOFFSETTO:+0200
TZNAME:CEST
DTSTART:20170326T010000
END:DAYLIGHT
BEGIN:STANDARD
TZOFFSETFROM:+0200
TZOFFSETTO:+0100
TZNAME:CET
DTSTART:20171029T010000
END:STANDARD
BEGIN:DAYLIGHT
TZOFFSETFROM:+0100
TZOFFSETTO:+0200
TZNAME:CEST
DTSTART:20180325T010000
END:DAYLIGHT
BEGIN:STANDARD
TZOFFSETFROM:+0200
TZOFFSETTO:+0100
TZNAME:CET
DTSTART:20181028T010000
END:STANDARD
BEGIN:DAYLIGHT
TZOFFSETFROM:+0100
TZOFFSETTO:+0200
TZNAME:CEST
DTSTART:20190331T010000
END:DAYLIGHT
BEGIN:STANDARD
TZOFFSETFROM:+0200
TZOFFSETTO:+0100
TZNAME:CET
DTSTART:20191027T010000
END:STANDARD
END:VTIMEZONE
BEGIN:VEVENT
DTSTART;VALUE=DATE:20180123
DTEND;VALUE=DATE:20180124
DTSTAMP:20260420T164338
CREATED:20171115T184927Z
LAST-MODIFIED:20171115T184927Z
UID:360337-1516665600-1516751999@www.recyclingmagazin.de
SUMMARY:G2-Konferenz
DESCRIPTION:Bereits zum dritten Mal veranstalten die stiftung elektro-altgeräte register und die Stiftung GRS Batterien eine Fachkonferenz zur Produktverantwortung. Ziel dieser wie auch vergangener gemeinamer Veranstaltungen ist\, neben dem Informationsgedanken\, insbesondere der Fachaustausch zwischen allen Beteiligten aus Politik\, Wirtschaft und Verwaltung. \nDie G2 Konferenz: 3 Jahrzehnte Produktverantwortung steht unter der Schirmherrschaft des Bundesministeriums für Umwelt\, Naturschutz\, Bau und Reaktorsicherheit.
URL:https://www.recyclingmagazin.de/event/g2-konferenz/
LOCATION:Bundesministerium für Umwelt\, Naturschutz\, Bau und Reaktorsicherheit\, Stresemannstraße 128-130\, Berlin\, 10117\, Deutschland
CATEGORIES:Konferenz
END:VEVENT
END:VCALENDAR