BEGIN:VCALENDAR
VERSION:2.0
PRODID:-//RECYCLING magazin - ECPv6.15.20//NONSGML v1.0//EN
CALSCALE:GREGORIAN
METHOD:PUBLISH
X-WR-CALNAME:RECYCLING magazin
X-ORIGINAL-URL:https://www.recyclingmagazin.de
X-WR-CALDESC:Veranstaltungen für RECYCLING magazin
REFRESH-INTERVAL;VALUE=DURATION:PT1H
X-Robots-Tag:noindex
X-PUBLISHED-TTL:PT1H
BEGIN:VTIMEZONE
TZID:Europe/Berlin
BEGIN:DAYLIGHT
TZOFFSETFROM:+0100
TZOFFSETTO:+0200
TZNAME:CEST
DTSTART:20160327T010000
END:DAYLIGHT
BEGIN:STANDARD
TZOFFSETFROM:+0200
TZOFFSETTO:+0100
TZNAME:CET
DTSTART:20161030T010000
END:STANDARD
BEGIN:DAYLIGHT
TZOFFSETFROM:+0100
TZOFFSETTO:+0200
TZNAME:CEST
DTSTART:20170326T010000
END:DAYLIGHT
BEGIN:STANDARD
TZOFFSETFROM:+0200
TZOFFSETTO:+0100
TZNAME:CET
DTSTART:20171029T010000
END:STANDARD
BEGIN:DAYLIGHT
TZOFFSETFROM:+0100
TZOFFSETTO:+0200
TZNAME:CEST
DTSTART:20180325T010000
END:DAYLIGHT
BEGIN:STANDARD
TZOFFSETFROM:+0200
TZOFFSETTO:+0100
TZNAME:CET
DTSTART:20181028T010000
END:STANDARD
END:VTIMEZONE
BEGIN:VEVENT
DTSTART;VALUE=DATE:20170531
DTEND;VALUE=DATE:20170602
DTSTAMP:20260420T093447
CREATED:20170317T113421Z
LAST-MODIFIED:20170317T113612Z
UID:355799-1496188800-1496361599@www.recyclingmagazin.de
SUMMARY:Funktionale Sicherheit in thermischen Kraftwerken
DESCRIPTION:Lernen Sie im Seminar\, wie Sie die Funktionale Sicherheit in Kraftwerken managen können. Erarbeiten Sie sich das notwendige Fachwissen\, um das SIL-Verfahren für Ihre Anforderungen zu nutzen. Lernen Sie das Risikoanalyseverfahren kennen\, um zukünftig Prozesse besser analysieren zu können. Profitieren Sie von der Expertise erfahrener Referenten.
URL:https://www.recyclingmagazin.de/event/funktionale-sicherheit-in-thermischen-kraftwerken/
LOCATION:Lindner Congress Hotel Frankfurt\, Bolongarostraße 100\, Frankfurt am Main\, 65929\, Deutschland
CATEGORIES:Seminar
END:VEVENT
END:VCALENDAR