BEGIN:VCALENDAR
VERSION:2.0
PRODID:-//RECYCLING magazin - ECPv6.15.20//NONSGML v1.0//EN
CALSCALE:GREGORIAN
METHOD:PUBLISH
X-WR-CALNAME:RECYCLING magazin
X-ORIGINAL-URL:https://www.recyclingmagazin.de
X-WR-CALDESC:Veranstaltungen für RECYCLING magazin
REFRESH-INTERVAL;VALUE=DURATION:PT1H
X-Robots-Tag:noindex
X-PUBLISHED-TTL:PT1H
BEGIN:VTIMEZONE
TZID:Europe/Berlin
BEGIN:DAYLIGHT
TZOFFSETFROM:+0100
TZOFFSETTO:+0200
TZNAME:CEST
DTSTART:20180325T010000
END:DAYLIGHT
BEGIN:STANDARD
TZOFFSETFROM:+0200
TZOFFSETTO:+0100
TZNAME:CET
DTSTART:20181028T010000
END:STANDARD
BEGIN:DAYLIGHT
TZOFFSETFROM:+0100
TZOFFSETTO:+0200
TZNAME:CEST
DTSTART:20190331T010000
END:DAYLIGHT
BEGIN:STANDARD
TZOFFSETFROM:+0200
TZOFFSETTO:+0100
TZNAME:CET
DTSTART:20191027T010000
END:STANDARD
BEGIN:DAYLIGHT
TZOFFSETFROM:+0100
TZOFFSETTO:+0200
TZNAME:CEST
DTSTART:20200329T010000
END:DAYLIGHT
BEGIN:STANDARD
TZOFFSETFROM:+0200
TZOFFSETTO:+0100
TZNAME:CET
DTSTART:20201025T010000
END:STANDARD
END:VTIMEZONE
BEGIN:VEVENT
DTSTART;VALUE=DATE:20191010
DTEND;VALUE=DATE:20191011
DTSTAMP:20260421T022123
CREATED:20180926T132607Z
LAST-MODIFIED:20191018T144906Z
UID:365972-1570665600-1570751999@www.recyclingmagazin.de
SUMMARY:Fuhrpark- und Frachtenoptimierung
DESCRIPTION:Die meisten Unternehmen in der Recyclingbranche betreiben einen eigenen Fuhrpark. Dieser eigene Fuhrpark soll\, bei aller Flexibilität\, wirtschaftlich konkurrenzfähig zu eigenständigen Speditionsunternehmen sein. Dazu sollte er wie ein eigenes Unternehmen im Unternehmen geführt werden und dem Preisvergleich des Wettbewerbs standhalten.
URL:https://www.recyclingmagazin.de/event/fuhrpark-und-frachtenoptimierung-2/
LOCATION:Schrott- und Metallhandel M. Kaatsch GmbH\, Am Nordseekai 8\, Plochingen\, 73207\, Deutschland
CATEGORIES:Workshop
ORGANIZER;CN="Bundesvereinigung Deutscher Stahlrecycling-und Entsorgungsunternehmen e. V. (BDSV)":MAILTO:zentrale@bdsv.de
END:VEVENT
END:VCALENDAR