BEGIN:VCALENDAR
VERSION:2.0
PRODID:-//RECYCLING magazin - ECPv6.15.20//NONSGML v1.0//EN
CALSCALE:GREGORIAN
METHOD:PUBLISH
X-WR-CALNAME:RECYCLING magazin
X-ORIGINAL-URL:https://www.recyclingmagazin.de
X-WR-CALDESC:Veranstaltungen für RECYCLING magazin
REFRESH-INTERVAL;VALUE=DURATION:PT1H
X-Robots-Tag:noindex
X-PUBLISHED-TTL:PT1H
BEGIN:VTIMEZONE
TZID:Europe/Berlin
BEGIN:DAYLIGHT
TZOFFSETFROM:+0100
TZOFFSETTO:+0200
TZNAME:CEST
DTSTART:20170326T010000
END:DAYLIGHT
BEGIN:STANDARD
TZOFFSETFROM:+0200
TZOFFSETTO:+0100
TZNAME:CET
DTSTART:20171029T010000
END:STANDARD
BEGIN:DAYLIGHT
TZOFFSETFROM:+0100
TZOFFSETTO:+0200
TZNAME:CEST
DTSTART:20180325T010000
END:DAYLIGHT
BEGIN:STANDARD
TZOFFSETFROM:+0200
TZOFFSETTO:+0100
TZNAME:CET
DTSTART:20181028T010000
END:STANDARD
BEGIN:DAYLIGHT
TZOFFSETFROM:+0100
TZOFFSETTO:+0200
TZNAME:CEST
DTSTART:20190331T010000
END:DAYLIGHT
BEGIN:STANDARD
TZOFFSETFROM:+0200
TZOFFSETTO:+0100
TZNAME:CET
DTSTART:20191027T010000
END:STANDARD
END:VTIMEZONE
BEGIN:VEVENT
DTSTART;VALUE=DATE:20180910
DTEND;VALUE=DATE:20180913
DTSTAMP:20260425T042744
CREATED:20170602T131636Z
LAST-MODIFIED:20180716T101059Z
UID:357072-1536537600-1536796799@www.recyclingmagazin.de
SUMMARY:Führung in Disposition und Einsatzleitung
DESCRIPTION:in der Disposition und Einsatzleitung ist große Sozialkompetenz gefordert. Zentrale Aufgaben sind die Teamsteuerung und Motivation der zugewiesenen Gruppe von Kraftfahrern und Müllwerkern. Erfolgreiche Disponenten und Einsatzleiter bauen persönliche Beziehungen zu den Fahrern und Ladern auf und erreichen mit ihnen ein leistungsbereites und Qualität steigerndes Klima. \nDisponenten und Einsatzleiter benötigen deshalb nicht nur rechtliche und technische Kenntnisse\, sondern auch kommunikative Fähigkeiten. Die Teilnehmer lernen in diesem dreitägigen Training die Grundlagen effektiver Mitarbeiterführung kennen und wenden diese zum Steigern von Motivation und Arbeitszufriedenheit an. Darüber hinaus analysieren sie Konflikte im beruflichen Alltag. Sie eignen sich Gesprächstechniken an\, um erfolgreicher in konfliktträchtigen Situationen zu bestehen.
URL:https://www.recyclingmagazin.de/event/fuehrung-in-disposition-und-einsatzleitung-3/
LOCATION:InterCity Hotel Duisburg\, Mercatorstraße 57\, Duisburg\, 47051\, Deutschland
CATEGORIES:Seminar
END:VEVENT
END:VCALENDAR