BEGIN:VCALENDAR
VERSION:2.0
PRODID:-//RECYCLING magazin - ECPv6.15.20//NONSGML v1.0//EN
CALSCALE:GREGORIAN
METHOD:PUBLISH
X-WR-CALNAME:RECYCLING magazin
X-ORIGINAL-URL:https://www.recyclingmagazin.de
X-WR-CALDESC:Veranstaltungen für RECYCLING magazin
REFRESH-INTERVAL;VALUE=DURATION:PT1H
X-Robots-Tag:noindex
X-PUBLISHED-TTL:PT1H
BEGIN:VTIMEZONE
TZID:Europe/Berlin
BEGIN:DAYLIGHT
TZOFFSETFROM:+0100
TZOFFSETTO:+0200
TZNAME:CEST
DTSTART:20170326T010000
END:DAYLIGHT
BEGIN:STANDARD
TZOFFSETFROM:+0200
TZOFFSETTO:+0100
TZNAME:CET
DTSTART:20171029T010000
END:STANDARD
BEGIN:DAYLIGHT
TZOFFSETFROM:+0100
TZOFFSETTO:+0200
TZNAME:CEST
DTSTART:20180325T010000
END:DAYLIGHT
BEGIN:STANDARD
TZOFFSETFROM:+0200
TZOFFSETTO:+0100
TZNAME:CET
DTSTART:20181028T010000
END:STANDARD
BEGIN:DAYLIGHT
TZOFFSETFROM:+0100
TZOFFSETTO:+0200
TZNAME:CEST
DTSTART:20190331T010000
END:DAYLIGHT
BEGIN:STANDARD
TZOFFSETFROM:+0200
TZOFFSETTO:+0100
TZNAME:CET
DTSTART:20191027T010000
END:STANDARD
END:VTIMEZONE
BEGIN:VEVENT
DTSTART;VALUE=DATE:20181017
DTEND;VALUE=DATE:20181018
DTSTAMP:20260424T210420
CREATED:20171212T160510Z
LAST-MODIFIED:20171212T160510Z
UID:360801-1539734400-1539820799@www.recyclingmagazin.de
SUMMARY:Fortbildungskurs: Qualitätssicherung und Zertifizierung von Recyclingbaustoffen
DESCRIPTION:Das Zertifikat des Baustoff Recycling Bayern e.V. bescheinigt für den zertifizierten Baustoff die Einhaltung aller für Art und Einsatzzweck des Baustoffs relevanten bau- und umwelttechnischen Regelungen. Recyclingbaustoffe dürfen zur Anwendung im Straßen-\, Wege- und sonstigen Verkehrsflächenbau sowie im Erdbau in der Regel nur geprüft\, güteüberwacht und zertifiziert verwendet werden. \nDiese Qualitätssicherung untergliedert sich in die Bereiche Eignungsnachweis\, Eigenüberwachung (EÜ)/Werkseigene Produktionskontrolle (WPK)\, Fremdüberwachung durch eine anerkannte Prüfstelle und (Produkt-)Zertifizierung. Voraussetzung für die Erteilung des Verbandszertifikats ist u. a. die regelmäßige Fortbildung der verantwortlichen Mitarbeiter. In diesem Fortbildungskurs wird speziell die Eigenüberwachung/werkseigene Produktionskontrolle vorgestellt.
URL:https://www.recyclingmagazin.de/event/fortbildungskurs-qualitaetssicherung-und-zertifizierung-von-recyclingbaustoffen-5/
LOCATION:Enso Hotel\, Bei der Arena 1\, Ingolstadt\, 85053\, Deutschland
CATEGORIES:Seminar
ORGANIZER;CN="bvse-recyconsult":MAILTO:info@bvse.de
END:VEVENT
END:VCALENDAR