BEGIN:VCALENDAR
VERSION:2.0
PRODID:-//RECYCLING magazin - ECPv6.15.20//NONSGML v1.0//EN
CALSCALE:GREGORIAN
METHOD:PUBLISH
X-WR-CALNAME:RECYCLING magazin
X-ORIGINAL-URL:https://www.recyclingmagazin.de
X-WR-CALDESC:Veranstaltungen für RECYCLING magazin
REFRESH-INTERVAL;VALUE=DURATION:PT1H
X-Robots-Tag:noindex
X-PUBLISHED-TTL:PT1H
BEGIN:VTIMEZONE
TZID:Europe/Berlin
BEGIN:DAYLIGHT
TZOFFSETFROM:+0100
TZOFFSETTO:+0200
TZNAME:CEST
DTSTART:20180325T010000
END:DAYLIGHT
BEGIN:STANDARD
TZOFFSETFROM:+0200
TZOFFSETTO:+0100
TZNAME:CET
DTSTART:20181028T010000
END:STANDARD
BEGIN:DAYLIGHT
TZOFFSETFROM:+0100
TZOFFSETTO:+0200
TZNAME:CEST
DTSTART:20190331T010000
END:DAYLIGHT
BEGIN:STANDARD
TZOFFSETFROM:+0200
TZOFFSETTO:+0100
TZNAME:CET
DTSTART:20191027T010000
END:STANDARD
BEGIN:DAYLIGHT
TZOFFSETFROM:+0100
TZOFFSETTO:+0200
TZNAME:CEST
DTSTART:20200329T010000
END:DAYLIGHT
BEGIN:STANDARD
TZOFFSETFROM:+0200
TZOFFSETTO:+0100
TZNAME:CET
DTSTART:20201025T010000
END:STANDARD
END:VTIMEZONE
BEGIN:VEVENT
DTSTART;VALUE=DATE:20190919
DTEND;VALUE=DATE:20190920
DTSTAMP:20260420T225559
CREATED:20190528T141555Z
LAST-MODIFIED:20190528T141555Z
UID:371492-1568851200-1568937599@www.recyclingmagazin.de
SUMMARY:Fachtag Leichtigkeit PUR
DESCRIPTION:Der Fachverband Schaumkunststoffe und Polyurethane e.V. (FSK) veranstaltet am 19. September 2019 seinen Fachtag Leichtigkeit PUR in der Open Hybrid LabFactory – dem LeichtbauCampus in Wolfsburg. Die Teilnehmer erwartet ein interessantes Programm mit innovativen Vorträgen über Anwendungen aus dem Bereich Leichtbau mit Polyurethan. Zusätzlich bietet die Veranstaltung Raum zum Wissensaustausch und Networking.\nAbgerundet wird der Fachtag durch eine hochinteressante Technikums- und Laborbesichtigung der Open Hybrid LabFactory.
URL:https://www.recyclingmagazin.de/event/fachtag-leichtigkeit-pur/
LOCATION:Open Hybrid LabFactory\, Hermann-Münch-Straße 2\, Wolfsburg\, 38440\, Deutschland
CATEGORIES:Tagung
END:VEVENT
END:VCALENDAR