BEGIN:VCALENDAR
VERSION:2.0
PRODID:-//RECYCLING magazin - ECPv6.15.20//NONSGML v1.0//EN
CALSCALE:GREGORIAN
METHOD:PUBLISH
X-WR-CALNAME:RECYCLING magazin
X-ORIGINAL-URL:https://www.recyclingmagazin.de
X-WR-CALDESC:Veranstaltungen für RECYCLING magazin
REFRESH-INTERVAL;VALUE=DURATION:PT1H
X-Robots-Tag:noindex
X-PUBLISHED-TTL:PT1H
BEGIN:VTIMEZONE
TZID:Europe/Berlin
BEGIN:DAYLIGHT
TZOFFSETFROM:+0100
TZOFFSETTO:+0200
TZNAME:CEST
DTSTART:20180325T010000
END:DAYLIGHT
BEGIN:STANDARD
TZOFFSETFROM:+0200
TZOFFSETTO:+0100
TZNAME:CET
DTSTART:20181028T010000
END:STANDARD
BEGIN:DAYLIGHT
TZOFFSETFROM:+0100
TZOFFSETTO:+0200
TZNAME:CEST
DTSTART:20190331T010000
END:DAYLIGHT
BEGIN:STANDARD
TZOFFSETFROM:+0200
TZOFFSETTO:+0100
TZNAME:CET
DTSTART:20191027T010000
END:STANDARD
BEGIN:DAYLIGHT
TZOFFSETFROM:+0100
TZOFFSETTO:+0200
TZNAME:CEST
DTSTART:20200329T010000
END:DAYLIGHT
BEGIN:STANDARD
TZOFFSETFROM:+0200
TZOFFSETTO:+0100
TZNAME:CET
DTSTART:20201025T010000
END:STANDARD
END:VTIMEZONE
BEGIN:VEVENT
DTSTART;VALUE=DATE:20190919
DTEND;VALUE=DATE:20190920
DTSTAMP:20260420T212057
CREATED:20190515T145026Z
LAST-MODIFIED:20190517T125857Z
UID:371115-1568851200-1568937599@www.recyclingmagazin.de
SUMMARY:European Recycling Conference (ERC)
DESCRIPTION:EuRIC – the European Recycling Industries’ Confederation – and FEDEREC kindly invite you to the third edition of the European Recycling Conference (ERC) on 19 September 2019 in Paris\, at the unique location of the Air and Space Museum at Paris – Le Bourget Airport. \nGathering traders\, recyclers\, consumers and machinery suppliers from all around Europe\, this conference will offer unparalleled networking opportunities for business development. High level industry speakers\, as well as representatives of the European institutions and the French public sector\, will keep you abreast of the latest business and regulatory developments at European level. Priorities for the European recycling industry in the forthcoming years will also be defined in the context of the newly elected European Parliament elections and forthcoming new European Commission. \nThe ERC 2019 will also be a unique occasion to celebrate together the 5th anniversary of EuRIC’s creation. For companies and organisations looking to position themselves as key stakeholders in Europe\, ERC will offer a host of different sponsorship opportunities.
URL:https://www.recyclingmagazin.de/event/european-recycling-conference-erc/
LOCATION:Musée de l’air et de l’espace\, Aéroport de Paris-Le Bourget\, Le Bourget\, 93352\, Frankreich
CATEGORIES:Konferenz
ORGANIZER;CN="European Recycling Industries%E2%80%99 Confederation (EuRIC)":MAILTO:euric@euric-aisbl.eu
END:VEVENT
END:VCALENDAR