BEGIN:VCALENDAR
VERSION:2.0
PRODID:-//RECYCLING magazin - ECPv6.15.20//NONSGML v1.0//EN
CALSCALE:GREGORIAN
METHOD:PUBLISH
X-WR-CALNAME:RECYCLING magazin
X-ORIGINAL-URL:https://www.recyclingmagazin.de
X-WR-CALDESC:Veranstaltungen für RECYCLING magazin
REFRESH-INTERVAL;VALUE=DURATION:PT1H
X-Robots-Tag:noindex
X-PUBLISHED-TTL:PT1H
BEGIN:VTIMEZONE
TZID:Europe/Berlin
BEGIN:DAYLIGHT
TZOFFSETFROM:+0100
TZOFFSETTO:+0200
TZNAME:CEST
DTSTART:20160327T010000
END:DAYLIGHT
BEGIN:STANDARD
TZOFFSETFROM:+0200
TZOFFSETTO:+0100
TZNAME:CET
DTSTART:20161030T010000
END:STANDARD
BEGIN:DAYLIGHT
TZOFFSETFROM:+0100
TZOFFSETTO:+0200
TZNAME:CEST
DTSTART:20170326T010000
END:DAYLIGHT
BEGIN:STANDARD
TZOFFSETFROM:+0200
TZOFFSETTO:+0100
TZNAME:CET
DTSTART:20171029T010000
END:STANDARD
BEGIN:DAYLIGHT
TZOFFSETFROM:+0100
TZOFFSETTO:+0200
TZNAME:CEST
DTSTART:20180325T010000
END:DAYLIGHT
BEGIN:STANDARD
TZOFFSETFROM:+0200
TZOFFSETTO:+0100
TZNAME:CET
DTSTART:20181028T010000
END:STANDARD
END:VTIMEZONE
BEGIN:VEVENT
DTSTART;VALUE=DATE:20170627
DTEND;VALUE=DATE:20170628
DTSTAMP:20260420T000514
CREATED:20170404T124827Z
LAST-MODIFIED:20170404T124827Z
UID:356059-1498521600-1498607999@www.recyclingmagazin.de
SUMMARY:Erwerb der Sachkunde zur Überprüfung Abfallbehälter
DESCRIPTION:Der Gesetzgeber schreibt gemäß mit der DGUV Vorschrift 70 § 57 (ehemals BGV D29) vor\, dass austauschbare Kipp- und Absetzbehältern jährlich durch einen Sachkundigenand geprüft werden müssen. Das Seminar vermittelt die notwendigen theoretischen und praktischen Kenntnisse\, um diese jährliche Prüfung vornehmen zu dürfen.
URL:https://www.recyclingmagazin.de/event/erwerb-der-sachkunde-zur-ueberpruefung-abfallbehaelter/
LOCATION:Alba Berlin GmbH\, Marzahner Straße 35\, Berlin \, 13053\, Deutschland
CATEGORIES:Seminar
ORGANIZER;CN="BDE Bundesverband der Deutschen Entsorgungs-%2C Wasser- und Rohstoffwirtschaft":MAILTO:info@bde.de
END:VEVENT
END:VCALENDAR