BEGIN:VCALENDAR
VERSION:2.0
PRODID:-//RECYCLING magazin - ECPv6.15.20//NONSGML v1.0//EN
CALSCALE:GREGORIAN
METHOD:PUBLISH
X-WR-CALNAME:RECYCLING magazin
X-ORIGINAL-URL:https://www.recyclingmagazin.de
X-WR-CALDESC:Veranstaltungen für RECYCLING magazin
REFRESH-INTERVAL;VALUE=DURATION:PT1H
X-Robots-Tag:noindex
X-PUBLISHED-TTL:PT1H
BEGIN:VTIMEZONE
TZID:Europe/Berlin
BEGIN:DAYLIGHT
TZOFFSETFROM:+0100
TZOFFSETTO:+0200
TZNAME:CEST
DTSTART:20170326T010000
END:DAYLIGHT
BEGIN:STANDARD
TZOFFSETFROM:+0200
TZOFFSETTO:+0100
TZNAME:CET
DTSTART:20171029T010000
END:STANDARD
BEGIN:DAYLIGHT
TZOFFSETFROM:+0100
TZOFFSETTO:+0200
TZNAME:CEST
DTSTART:20180325T010000
END:DAYLIGHT
BEGIN:STANDARD
TZOFFSETFROM:+0200
TZOFFSETTO:+0100
TZNAME:CET
DTSTART:20181028T010000
END:STANDARD
BEGIN:DAYLIGHT
TZOFFSETFROM:+0100
TZOFFSETTO:+0200
TZNAME:CEST
DTSTART:20190331T010000
END:DAYLIGHT
BEGIN:STANDARD
TZOFFSETFROM:+0200
TZOFFSETTO:+0100
TZNAME:CET
DTSTART:20191027T010000
END:STANDARD
END:VTIMEZONE
BEGIN:VEVENT
DTSTART;VALUE=DATE:20181127
DTEND;VALUE=DATE:20181129
DTSTAMP:20260424T174453
CREATED:20180316T161500Z
LAST-MODIFIED:20181112T132952Z
UID:362662-1543276800-1543449599@www.recyclingmagazin.de
SUMMARY:ERF - European Resources Forum
DESCRIPTION:Nach den Erfolgen in den vergangenen Jahren veranstaltet das Umweltbundesamt im November zum vierten Mal die Konferenzen „Europäisches Ressourcen-Forum“ (27.-28. Nov. 2018) und „Nationales Ressourcen-Forum“ (29. Nov. 2018).  \nDie Veranstaltungen Europäisches Ressourcen-Forum (ERF) und nationales Ressourcen-Forum und NRF haben sich zu wichtigen Plattformen für die wissenschaftliche und politische Debatte des Themas Ressourcenschonung und Ressourceneffizienz in Deutschland\, Europa und international entwickelt.  \nDie Konferenzen ERF 2018 und NRF 2018 finden im Berliner Ludwig Erhard Haus statt und richten sich an Entscheidungsträger sowie Expertinnen und Experten aus Politik\, Wirtschaft\, Wissenschaft\, der Zivilgesellschaft und den Medien. Es werden über 700 Teilnehmerinnen und Teilnehmer aus mehr als 40 Ländern erwartet.
URL:https://www.recyclingmagazin.de/event/erf-european-resources-forum/
LOCATION:Ludwig-Erhard-Haus\, Fasanenstraße 85\, Berlin\, 10623\, Deutschland
CATEGORIES:Konferenz
END:VEVENT
END:VCALENDAR