BEGIN:VCALENDAR
VERSION:2.0
PRODID:-//RECYCLING magazin - ECPv6.15.20//NONSGML v1.0//EN
CALSCALE:GREGORIAN
METHOD:PUBLISH
X-WR-CALNAME:RECYCLING magazin
X-ORIGINAL-URL:https://www.recyclingmagazin.de
X-WR-CALDESC:Veranstaltungen für RECYCLING magazin
REFRESH-INTERVAL;VALUE=DURATION:PT1H
X-Robots-Tag:noindex
X-PUBLISHED-TTL:PT1H
BEGIN:VTIMEZONE
TZID:Europe/Berlin
BEGIN:DAYLIGHT
TZOFFSETFROM:+0100
TZOFFSETTO:+0200
TZNAME:CEST
DTSTART:20170326T010000
END:DAYLIGHT
BEGIN:STANDARD
TZOFFSETFROM:+0200
TZOFFSETTO:+0100
TZNAME:CET
DTSTART:20171029T010000
END:STANDARD
BEGIN:DAYLIGHT
TZOFFSETFROM:+0100
TZOFFSETTO:+0200
TZNAME:CEST
DTSTART:20180325T010000
END:DAYLIGHT
BEGIN:STANDARD
TZOFFSETFROM:+0200
TZOFFSETTO:+0100
TZNAME:CET
DTSTART:20181028T010000
END:STANDARD
BEGIN:DAYLIGHT
TZOFFSETFROM:+0100
TZOFFSETTO:+0200
TZNAME:CEST
DTSTART:20190331T010000
END:DAYLIGHT
BEGIN:STANDARD
TZOFFSETFROM:+0200
TZOFFSETTO:+0100
TZNAME:CET
DTSTART:20191027T010000
END:STANDARD
END:VTIMEZONE
BEGIN:VEVENT
DTSTART;VALUE=DATE:20180918
DTEND;VALUE=DATE:20180919
DTSTAMP:20260426T002143
CREATED:20180712T095657Z
LAST-MODIFIED:20180712T095657Z
UID:364593-1537228800-1537315199@www.recyclingmagazin.de
SUMMARY:Entsorgungsprozesse digitalisieren - wie geht das?
DESCRIPTION:Eine Ratgeber-Veranstaltung zum Thema Digitalisierung in der Abfallwirtschaft. Lassen Sie sich zeigen\, wie einfach Sie Kunden- und Lieferantenbeziehungen\, Ihr Stoffstrommanagement\, Ihr Energiemanagement\, oder die grenzüberschreitende Verbringung digitalisieren können. \nDie Themen im Überblick: \n\nDigitalisierung der grenzüberschreitenden Verbringung\nDigitalisierung Ihres Stoffstrom- und Energiemanagements\nDigitalisierung Ihrer Kunden- / Lieferantenbeziehung
URL:https://www.recyclingmagazin.de/event/entsorgungsprozesse-digitalisieren-wie-geht-das/
CATEGORIES:Vortrag
END:VEVENT
END:VCALENDAR