BEGIN:VCALENDAR
VERSION:2.0
PRODID:-//RECYCLING magazin - ECPv6.15.20//NONSGML v1.0//EN
CALSCALE:GREGORIAN
METHOD:PUBLISH
X-WR-CALNAME:RECYCLING magazin
X-ORIGINAL-URL:https://www.recyclingmagazin.de
X-WR-CALDESC:Veranstaltungen für RECYCLING magazin
REFRESH-INTERVAL;VALUE=DURATION:PT1H
X-Robots-Tag:noindex
X-PUBLISHED-TTL:PT1H
BEGIN:VTIMEZONE
TZID:Europe/Berlin
BEGIN:DAYLIGHT
TZOFFSETFROM:+0100
TZOFFSETTO:+0200
TZNAME:CEST
DTSTART:20160327T010000
END:DAYLIGHT
BEGIN:STANDARD
TZOFFSETFROM:+0200
TZOFFSETTO:+0100
TZNAME:CET
DTSTART:20161030T010000
END:STANDARD
BEGIN:DAYLIGHT
TZOFFSETFROM:+0100
TZOFFSETTO:+0200
TZNAME:CEST
DTSTART:20170326T010000
END:DAYLIGHT
BEGIN:STANDARD
TZOFFSETFROM:+0200
TZOFFSETTO:+0100
TZNAME:CET
DTSTART:20171029T010000
END:STANDARD
BEGIN:DAYLIGHT
TZOFFSETFROM:+0100
TZOFFSETTO:+0200
TZNAME:CEST
DTSTART:20180325T010000
END:DAYLIGHT
BEGIN:STANDARD
TZOFFSETFROM:+0200
TZOFFSETTO:+0100
TZNAME:CET
DTSTART:20181028T010000
END:STANDARD
END:VTIMEZONE
BEGIN:VEVENT
DTSTART;VALUE=DATE:20171108
DTEND;VALUE=DATE:20171110
DTSTAMP:20260419T192947
CREATED:20170317T110422Z
LAST-MODIFIED:20170317T110457Z
UID:355771-1510099200-1510271999@www.recyclingmagazin.de
SUMMARY:Energieprognosen für Strom\, Wärme und Energiepreise
DESCRIPTION:Ob in virtuellen Kraftwerken\, in der industriellen Energieversorgung\, in Wärmenetzen oder in öffentlichen konventionellen Kraftwerksverbünden\, ohne zuverlässige Prognosen kommt keiner der Bereiche aus. In dem VDI-Seminar „Energieprognosen für Strom\, Wärme und Energiepreise gezielt einsetzen“ wird aufgezeigt\, wie Energieflüsse und Energiepreise mit Prognosen kalkulierbar werden und Unsicherheiten reduziert werden können. Die Besonderheit des Seminars ist\, das die Darstellungen und Erläuterungen überwiegend anhand von Fallbeispielen erfolgen.
URL:https://www.recyclingmagazin.de/event/energieprognosen-fuer-strom-waerme-und-energiepreise-3/
LOCATION:Novotel München Airport\, Flughafen München (MUC)\, Nordallee 29\, München\, 85356\, Deutschland
CATEGORIES:Seminar
END:VEVENT
END:VCALENDAR