BEGIN:VCALENDAR
VERSION:2.0
PRODID:-//RECYCLING magazin - ECPv6.15.20//NONSGML v1.0//EN
CALSCALE:GREGORIAN
METHOD:PUBLISH
X-WR-CALNAME:RECYCLING magazin
X-ORIGINAL-URL:https://www.recyclingmagazin.de
X-WR-CALDESC:Veranstaltungen für RECYCLING magazin
REFRESH-INTERVAL;VALUE=DURATION:PT1H
X-Robots-Tag:noindex
X-PUBLISHED-TTL:PT1H
BEGIN:VTIMEZONE
TZID:Europe/Berlin
BEGIN:DAYLIGHT
TZOFFSETFROM:+0100
TZOFFSETTO:+0200
TZNAME:CEST
DTSTART:20170326T010000
END:DAYLIGHT
BEGIN:STANDARD
TZOFFSETFROM:+0200
TZOFFSETTO:+0100
TZNAME:CET
DTSTART:20171029T010000
END:STANDARD
BEGIN:DAYLIGHT
TZOFFSETFROM:+0100
TZOFFSETTO:+0200
TZNAME:CEST
DTSTART:20180325T010000
END:DAYLIGHT
BEGIN:STANDARD
TZOFFSETFROM:+0200
TZOFFSETTO:+0100
TZNAME:CET
DTSTART:20181028T010000
END:STANDARD
BEGIN:DAYLIGHT
TZOFFSETFROM:+0100
TZOFFSETTO:+0200
TZNAME:CEST
DTSTART:20190331T010000
END:DAYLIGHT
BEGIN:STANDARD
TZOFFSETFROM:+0200
TZOFFSETTO:+0100
TZNAME:CET
DTSTART:20191027T010000
END:STANDARD
END:VTIMEZONE
BEGIN:VEVENT
DTSTART;VALUE=DATE:20180704
DTEND;VALUE=DATE:20180706
DTSTAMP:20260425T211948
CREATED:20180130T143748Z
LAST-MODIFIED:20180508T100951Z
UID:361451-1530662400-1530835199@www.recyclingmagazin.de
SUMMARY:Einführung in die Grundlagen der Abfallwirtschaft
DESCRIPTION:Das Kompaktseminar vermittelt in zwei Tagen die Grundlagen unserer Branche\, so dass Begrifflichkeiten eingeordnet und Abläufe wie Zusammenhänge durchschaut werden können. Auf dieser Basis können sich die Teilnehmer in der Entsorgungswelt zurecht finden und im Zuge ihrer Tätigkeit schnell weiteres Fachwissen aufbauen.
URL:https://www.recyclingmagazin.de/event/einfuehrung-in-die-grundlagen-der-abfallwirtschaft-2/
CATEGORIES:Seminar
END:VEVENT
END:VCALENDAR