BEGIN:VCALENDAR
VERSION:2.0
PRODID:-//RECYCLING magazin - ECPv6.15.20//NONSGML v1.0//EN
CALSCALE:GREGORIAN
METHOD:PUBLISH
X-WR-CALNAME:RECYCLING magazin
X-ORIGINAL-URL:https://www.recyclingmagazin.de
X-WR-CALDESC:Veranstaltungen für RECYCLING magazin
REFRESH-INTERVAL;VALUE=DURATION:PT1H
X-Robots-Tag:noindex
X-PUBLISHED-TTL:PT1H
BEGIN:VTIMEZONE
TZID:Europe/Berlin
BEGIN:DAYLIGHT
TZOFFSETFROM:+0100
TZOFFSETTO:+0200
TZNAME:CEST
DTSTART:20160327T010000
END:DAYLIGHT
BEGIN:STANDARD
TZOFFSETFROM:+0200
TZOFFSETTO:+0100
TZNAME:CET
DTSTART:20161030T010000
END:STANDARD
BEGIN:DAYLIGHT
TZOFFSETFROM:+0100
TZOFFSETTO:+0200
TZNAME:CEST
DTSTART:20170326T010000
END:DAYLIGHT
BEGIN:STANDARD
TZOFFSETFROM:+0200
TZOFFSETTO:+0100
TZNAME:CET
DTSTART:20171029T010000
END:STANDARD
BEGIN:DAYLIGHT
TZOFFSETFROM:+0100
TZOFFSETTO:+0200
TZNAME:CEST
DTSTART:20180325T010000
END:DAYLIGHT
BEGIN:STANDARD
TZOFFSETFROM:+0200
TZOFFSETTO:+0100
TZNAME:CET
DTSTART:20181028T010000
END:STANDARD
END:VTIMEZONE
BEGIN:VEVENT
DTSTART;VALUE=DATE:20170517
DTEND;VALUE=DATE:20170518
DTSTAMP:20260420T044540
CREATED:20170310T121208Z
LAST-MODIFIED:20170310T121208Z
UID:355632-1494979200-1495065599@www.recyclingmagazin.de
SUMMARY:Einführung in die Bilanzanalyse
DESCRIPTION:Jahresabschlüsse sind der rechnerische Abschluss eines kaufmännischen Geschäftsjahres und stellen “zwischen den Zeilen” eine fundierte Quelle zur Interpretation der wirtschaftlichen Lage des eigenen Unternehmens\, aber auch von Kunden und Geschäftspartnern dar.
URL:https://www.recyclingmagazin.de/event/einfuehrung-in-die-bilanzanalyse/
LOCATION:BDE-Geschäftsstelle\, Behrenstraße 29 \, Berlin\, 10117
CATEGORIES:Seminar
ORGANIZER;CN="BDE Bundesverband der Deutschen Entsorgungs-%2C Wasser- und Rohstoffwirtschaft":MAILTO:info@bde.de
END:VEVENT
END:VCALENDAR