BEGIN:VCALENDAR
VERSION:2.0
PRODID:-//RECYCLING magazin - ECPv6.15.20//NONSGML v1.0//EN
CALSCALE:GREGORIAN
METHOD:PUBLISH
X-WR-CALNAME:RECYCLING magazin
X-ORIGINAL-URL:https://www.recyclingmagazin.de
X-WR-CALDESC:Veranstaltungen für RECYCLING magazin
REFRESH-INTERVAL;VALUE=DURATION:PT1H
X-Robots-Tag:noindex
X-PUBLISHED-TTL:PT1H
BEGIN:VTIMEZONE
TZID:Europe/Berlin
BEGIN:DAYLIGHT
TZOFFSETFROM:+0100
TZOFFSETTO:+0200
TZNAME:CEST
DTSTART:20180325T010000
END:DAYLIGHT
BEGIN:STANDARD
TZOFFSETFROM:+0200
TZOFFSETTO:+0100
TZNAME:CET
DTSTART:20181028T010000
END:STANDARD
BEGIN:DAYLIGHT
TZOFFSETFROM:+0100
TZOFFSETTO:+0200
TZNAME:CEST
DTSTART:20190331T010000
END:DAYLIGHT
BEGIN:STANDARD
TZOFFSETFROM:+0200
TZOFFSETTO:+0100
TZNAME:CET
DTSTART:20191027T010000
END:STANDARD
BEGIN:DAYLIGHT
TZOFFSETFROM:+0100
TZOFFSETTO:+0200
TZNAME:CEST
DTSTART:20200329T010000
END:DAYLIGHT
BEGIN:STANDARD
TZOFFSETFROM:+0200
TZOFFSETTO:+0100
TZNAME:CET
DTSTART:20201025T010000
END:STANDARD
END:VTIMEZONE
BEGIN:VEVENT
DTSTART;VALUE=DATE:20190919
DTEND;VALUE=DATE:20190920
DTSTAMP:20260420T131622
CREATED:20160405T123327Z
LAST-MODIFIED:20190731T124053Z
UID:349412-1568851200-1568937599@www.recyclingmagazin.de
SUMMARY:Eigenorganisation/Zeitmanagement
DESCRIPTION:
URL:https://www.recyclingmagazin.de/event/eigenorganisationzeitmanagement/
LOCATION:ALFA Recycling München GmbH & Co. KG\, Rupert-Bodner-Straße 25\, München\, 81245\, Deutschland
CATEGORIES:Workshop
ORGANIZER;CN="Bundesvereinigung Deutscher Stahlrecycling-und Entsorgungsunternehmen e. V. (BDSV)":MAILTO:zentrale@bdsv.de
END:VEVENT
END:VCALENDAR