BEGIN:VCALENDAR
VERSION:2.0
PRODID:-//RECYCLING magazin - ECPv6.15.20//NONSGML v1.0//EN
CALSCALE:GREGORIAN
METHOD:PUBLISH
X-WR-CALNAME:RECYCLING magazin
X-ORIGINAL-URL:https://www.recyclingmagazin.de
X-WR-CALDESC:Veranstaltungen für RECYCLING magazin
REFRESH-INTERVAL;VALUE=DURATION:PT1H
X-Robots-Tag:noindex
X-PUBLISHED-TTL:PT1H
BEGIN:VTIMEZONE
TZID:Europe/Berlin
BEGIN:DAYLIGHT
TZOFFSETFROM:+0100
TZOFFSETTO:+0200
TZNAME:CEST
DTSTART:20160327T010000
END:DAYLIGHT
BEGIN:STANDARD
TZOFFSETFROM:+0200
TZOFFSETTO:+0100
TZNAME:CET
DTSTART:20161030T010000
END:STANDARD
BEGIN:DAYLIGHT
TZOFFSETFROM:+0100
TZOFFSETTO:+0200
TZNAME:CEST
DTSTART:20170326T010000
END:DAYLIGHT
BEGIN:STANDARD
TZOFFSETFROM:+0200
TZOFFSETTO:+0100
TZNAME:CET
DTSTART:20171029T010000
END:STANDARD
BEGIN:DAYLIGHT
TZOFFSETFROM:+0100
TZOFFSETTO:+0200
TZNAME:CEST
DTSTART:20180325T010000
END:DAYLIGHT
BEGIN:STANDARD
TZOFFSETFROM:+0200
TZOFFSETTO:+0100
TZNAME:CET
DTSTART:20181028T010000
END:STANDARD
END:VTIMEZONE
BEGIN:VEVENT
DTSTART;TZID=Europe/Berlin:20170126T150000
DTEND;TZID=Europe/Berlin:20170126T180000
DTSTAMP:20260420T114740
CREATED:20170110T094204Z
LAST-MODIFIED:20170110T094313Z
UID:354392-1485442800-1485453600@www.recyclingmagazin.de
SUMMARY:Die Störfallverordnung vor dem Hintergrund der Umsetzung der Seveso-III-Richtlinie: Auswirkung auf die Entsorgungs- und Recycling-Praxis
DESCRIPTION:Das Bundeskabinett hat die Entwürfe zur Umsetzung der sog. Seveso-III-Richtlinie beschlossen. Der Bundesrat hat zum Gesetzentwurf mit Datum vom 17.06.2016 eine Stellungnahme abgegeben\, zu der nunmehr die Gegenäußerung der Bundes-regierung veröffentlicht worden ist. \nEs sind Änderungen \n• des Bundes-Immissionsschutzgesetzes (BImSchG)\,\n• des Gesetzes über die Umweltverträglichkeitsprüfung (UVPG)\,\n• des Umwelt-Rechtsbehelfsgesetz (UmwRG)\,\n• der Störfallverordnung (12. BImSchV) sowie\n• der Verordnung über das Genehmigungsverfahren (9. BImSchV) \nvorgesehen. *) \nOb ein Betrieb unter die Regelungen der Seveso-III-RL fällt\, hängt von den vorhandenen gefährlichen Stoffen und deren Menge im Betrieb ab. Aktuelle Informationen hierzu bietet das WFZruhr am 26. Januar 2017 in einem Workshop\, der in Koopreation mit der Aurubis AG Recycling-Zentrum Lünen\, angeboten wird. \n\nUnsere Referneten/innen:\nRA‘in Christiane Rövekamp\,Wolter Hoppenberg Rechtsanwälte Partnerschaft mbB\, Hamm;\nDipl.-Ing. Stefan Herber; weyer gruppe | horst weyer und partner gmbh\, Düren;\nDr. Hendrik Roth\, Leiter Umweltschutz Lünen\, Aurubis AG Recyclingzentrum Lünen.
URL:https://www.recyclingmagazin.de/event/die-stoerfallverordnung-vor-dem-hintergrund-der-umsetzung-der-seveso-iii-richtlinie-auswirkung-auf-die-entsorgungs-und-recycling-praxis/
LOCATION:Aurubis AG Recycling-Zentrum Lünen\, Kupferstr. 23\, Lünen\, 44532\, Deutschland
CATEGORIES:Workshop
ORGANIZER;CN="WFZruhr":MAILTO:info@WFZ-ruhr.de
END:VEVENT
END:VCALENDAR