BEGIN:VCALENDAR
VERSION:2.0
PRODID:-//RECYCLING magazin - ECPv6.15.20//NONSGML v1.0//EN
CALSCALE:GREGORIAN
METHOD:PUBLISH
X-WR-CALNAME:RECYCLING magazin
X-ORIGINAL-URL:https://www.recyclingmagazin.de
X-WR-CALDESC:Veranstaltungen für RECYCLING magazin
REFRESH-INTERVAL;VALUE=DURATION:PT1H
X-Robots-Tag:noindex
X-PUBLISHED-TTL:PT1H
BEGIN:VTIMEZONE
TZID:Europe/Berlin
BEGIN:DAYLIGHT
TZOFFSETFROM:+0100
TZOFFSETTO:+0200
TZNAME:CEST
DTSTART:20170326T010000
END:DAYLIGHT
BEGIN:STANDARD
TZOFFSETFROM:+0200
TZOFFSETTO:+0100
TZNAME:CET
DTSTART:20171029T010000
END:STANDARD
BEGIN:DAYLIGHT
TZOFFSETFROM:+0100
TZOFFSETTO:+0200
TZNAME:CEST
DTSTART:20180325T010000
END:DAYLIGHT
BEGIN:STANDARD
TZOFFSETFROM:+0200
TZOFFSETTO:+0100
TZNAME:CET
DTSTART:20181028T010000
END:STANDARD
BEGIN:DAYLIGHT
TZOFFSETFROM:+0100
TZOFFSETTO:+0200
TZNAME:CEST
DTSTART:20190331T010000
END:DAYLIGHT
BEGIN:STANDARD
TZOFFSETFROM:+0200
TZOFFSETTO:+0100
TZNAME:CET
DTSTART:20191027T010000
END:STANDARD
END:VTIMEZONE
BEGIN:VEVENT
DTSTART;VALUE=DATE:20180215
DTEND;VALUE=DATE:20180216
DTSTAMP:20260419T223803
CREATED:20171212T160919Z
LAST-MODIFIED:20171212T160919Z
UID:360805-1518652800-1518739199@www.recyclingmagazin.de
SUMMARY:Die neue AwSV - Konsequenzen für Anlagenbetreiber
DESCRIPTION:Mit der Schaffung einer bundeseinheitlichen Regelung zum gewässerschutzbezogenen Anlagenrecht ab dem 01.08.2017 steht auch die Abfallwirtschaft vor neuen Herausforderungen. Da Abfälle grundsätzlich als sog. feste Gemische gelten dürften\, stellt sich im Einzelfall die Frage\, ob es sich um wassergefährdende Stoffe handelt. \nZiel der Veranstaltung ist es\, aus rechtlicher und aus technischer Sicht darüber aufzuklären\, ob und inwieweit Betriebe der Kreislaufwirtschaft von der Neuregelung betroffen sind. \nZielgruppe: \nDieses Seminar richtet sich an Geschäftsführer\, leitende Angestellte und Mitarbeiter von Betrieben\, die mit wassergefährdenden Stoffen umgehen oder Anlagen zum Umgang mit wassergefährdenden Stoffen betreiben. Außerdem sind Gewässerschutzbeauftragte\, Umweltbeauftragte\, Behördenvertreter aus dem Bereich Gewässerschutz oder Planungsbüros herzlich willkommen.
URL:https://www.recyclingmagazin.de/event/die-neue-awsv-konsequenzen-fuer-anlagenbetreiber-2/
LOCATION:bvse-Bildungszentrum\, Hohe Straße 73\, Bonn\, 53119
CATEGORIES:Seminar
ORGANIZER;CN="bvse-recyconsult":MAILTO:info@bvse.de
END:VEVENT
END:VCALENDAR