BEGIN:VCALENDAR
VERSION:2.0
PRODID:-//RECYCLING magazin - ECPv6.15.20//NONSGML v1.0//EN
CALSCALE:GREGORIAN
METHOD:PUBLISH
X-WR-CALNAME:RECYCLING magazin
X-ORIGINAL-URL:https://www.recyclingmagazin.de
X-WR-CALDESC:Veranstaltungen für RECYCLING magazin
REFRESH-INTERVAL;VALUE=DURATION:PT1H
X-Robots-Tag:noindex
X-PUBLISHED-TTL:PT1H
BEGIN:VTIMEZONE
TZID:Europe/Berlin
BEGIN:DAYLIGHT
TZOFFSETFROM:+0100
TZOFFSETTO:+0200
TZNAME:CEST
DTSTART:20180325T010000
END:DAYLIGHT
BEGIN:STANDARD
TZOFFSETFROM:+0200
TZOFFSETTO:+0100
TZNAME:CET
DTSTART:20181028T010000
END:STANDARD
BEGIN:DAYLIGHT
TZOFFSETFROM:+0100
TZOFFSETTO:+0200
TZNAME:CEST
DTSTART:20190331T010000
END:DAYLIGHT
BEGIN:STANDARD
TZOFFSETFROM:+0200
TZOFFSETTO:+0100
TZNAME:CET
DTSTART:20191027T010000
END:STANDARD
BEGIN:DAYLIGHT
TZOFFSETFROM:+0100
TZOFFSETTO:+0200
TZNAME:CEST
DTSTART:20200329T010000
END:DAYLIGHT
BEGIN:STANDARD
TZOFFSETFROM:+0200
TZOFFSETTO:+0100
TZNAME:CET
DTSTART:20201025T010000
END:STANDARD
END:VTIMEZONE
BEGIN:VEVENT
DTSTART;TZID=Europe/Berlin:20190703T150000
DTEND;TZID=Europe/Berlin:20190703T180000
DTSTAMP:20260421T112315
CREATED:20190604T140339Z
LAST-MODIFIED:20190604T140339Z
UID:371631-1562166000-1562176800@www.recyclingmagazin.de
SUMMARY:Der Weg in die Zukunft: Von der Entsorgungswirtschaft zur Circular Economy!
DESCRIPTION:Sind der Handel und die Produzenten auf dem Weg in die Wertschöpfungskette der Abfallbehandlung? Zu diesen Fragestellungen organisiert das WFZruhr am 3. Juli 2019 in Iserlohn eine Podiumsdiskussion mit fünf Vertretern aus Kreislaufwirtschaft\, Industrie unddem Handel\, moderiert von Katja Leistenschneider\, über neue Entsorgungswege\,\nüber Handelsunternehmen\, die Wertstoffkreisläufe in Eigenregie schließen und künftige Herausforderungen in der Kreislaufwirtschaft. \nReferenten sind Thomas Fetting (Wilo\, Dortmund)\, Stephan Garvs (PreZero\, Porta-Westfalica)\, Dr. Jochen Hoffmeister (Prognos\, Düsseldorf)\, Ernst-Peter Rahlenbeck (Klimaschutz durch Kreislaufwirtschaft\, Iserlohn) und Herwart Wilms (Remondis\, Lünen).
URL:https://www.recyclingmagazin.de/event/der-weg-in-die-zukunft-von-der-entsorgungswirtschaft-zur-circular-economy/
LOCATION:SASE gGmbH\, Max-Planck-Straße 11\, Iserlohn\, 58638 \, Deutschland
CATEGORIES:Podiumsdiskussion
END:VEVENT
END:VCALENDAR