BEGIN:VCALENDAR
VERSION:2.0
PRODID:-//RECYCLING magazin - ECPv6.15.20//NONSGML v1.0//EN
CALSCALE:GREGORIAN
METHOD:PUBLISH
X-WR-CALNAME:RECYCLING magazin
X-ORIGINAL-URL:https://www.recyclingmagazin.de
X-WR-CALDESC:Veranstaltungen für RECYCLING magazin
REFRESH-INTERVAL;VALUE=DURATION:PT1H
X-Robots-Tag:noindex
X-PUBLISHED-TTL:PT1H
BEGIN:VTIMEZONE
TZID:Europe/Berlin
BEGIN:DAYLIGHT
TZOFFSETFROM:+0100
TZOFFSETTO:+0200
TZNAME:CEST
DTSTART:20170326T010000
END:DAYLIGHT
BEGIN:STANDARD
TZOFFSETFROM:+0200
TZOFFSETTO:+0100
TZNAME:CET
DTSTART:20171029T010000
END:STANDARD
BEGIN:DAYLIGHT
TZOFFSETFROM:+0100
TZOFFSETTO:+0200
TZNAME:CEST
DTSTART:20180325T010000
END:DAYLIGHT
BEGIN:STANDARD
TZOFFSETFROM:+0200
TZOFFSETTO:+0100
TZNAME:CET
DTSTART:20181028T010000
END:STANDARD
BEGIN:DAYLIGHT
TZOFFSETFROM:+0100
TZOFFSETTO:+0200
TZNAME:CEST
DTSTART:20190331T010000
END:DAYLIGHT
BEGIN:STANDARD
TZOFFSETFROM:+0200
TZOFFSETTO:+0100
TZNAME:CET
DTSTART:20191027T010000
END:STANDARD
END:VTIMEZONE
BEGIN:VEVENT
DTSTART;VALUE=DATE:20180124
DTEND;VALUE=DATE:20180126
DTSTAMP:20260420T083016
CREATED:20171212T151220Z
LAST-MODIFIED:20171212T151243Z
UID:360773-1516752000-1516924799@www.recyclingmagazin.de
SUMMARY:Circular Economy - Kreislaufwirtschaft auf dem Bau - ein Beitrag zum nachhaltigen Bauen
DESCRIPTION:Bereits zum fünften Mal veranstaltet das Ministerium für Umwelt\, Klima und Energiewirtschaft Baden-Württemberg das Fachsymposium als Beitrag zum nachhaltigen Bauen mit optionaler Fachexkursion.
URL:https://www.recyclingmagazin.de/event/circular-economy-kreislaufwirtschaft-auf-dem-bau-ein-beitrag-zum-nachhaltigen-bauen/
LOCATION:Ministerium für Umwelt\, Klima und Energiewirtschaft Baden-Württemberg\, Willy-Brandt-Straße 41\, Stuttgart\, 70173\, Deutschland
CATEGORIES:Konferenz
END:VEVENT
END:VCALENDAR