BEGIN:VCALENDAR
VERSION:2.0
PRODID:-//RECYCLING magazin - ECPv6.15.20//NONSGML v1.0//EN
CALSCALE:GREGORIAN
METHOD:PUBLISH
X-WR-CALNAME:RECYCLING magazin
X-ORIGINAL-URL:https://www.recyclingmagazin.de
X-WR-CALDESC:Veranstaltungen für RECYCLING magazin
REFRESH-INTERVAL;VALUE=DURATION:PT1H
X-Robots-Tag:noindex
X-PUBLISHED-TTL:PT1H
BEGIN:VTIMEZONE
TZID:Europe/Berlin
BEGIN:DAYLIGHT
TZOFFSETFROM:+0100
TZOFFSETTO:+0200
TZNAME:CEST
DTSTART:20170326T010000
END:DAYLIGHT
BEGIN:STANDARD
TZOFFSETFROM:+0200
TZOFFSETTO:+0100
TZNAME:CET
DTSTART:20171029T010000
END:STANDARD
BEGIN:DAYLIGHT
TZOFFSETFROM:+0100
TZOFFSETTO:+0200
TZNAME:CEST
DTSTART:20180325T010000
END:DAYLIGHT
BEGIN:STANDARD
TZOFFSETFROM:+0200
TZOFFSETTO:+0100
TZNAME:CET
DTSTART:20181028T010000
END:STANDARD
BEGIN:DAYLIGHT
TZOFFSETFROM:+0100
TZOFFSETTO:+0200
TZNAME:CEST
DTSTART:20190331T010000
END:DAYLIGHT
BEGIN:STANDARD
TZOFFSETFROM:+0200
TZOFFSETTO:+0100
TZNAME:CET
DTSTART:20191027T010000
END:STANDARD
END:VTIMEZONE
BEGIN:VEVENT
DTSTART;VALUE=DATE:20180614
DTEND;VALUE=DATE:20180615
DTSTAMP:20260425T143201
CREATED:20180529T081344Z
LAST-MODIFIED:20180529T081344Z
UID:363912-1528934400-1529020799@www.recyclingmagazin.de
SUMMARY:Circular Design Forum
DESCRIPTION:Das Internationale Design Zentrum Berlin lädt am 14. Juni zum „Circular Design Forum“ auf den EUREF Campus in Berlin. Internationale Fachleute geben Einblicke in nachhaltige Gestaltungsansätze\, zukunftsweisende Geschäftsmodelle und politische Rahmenbedingungen. In Vorträgen\, Panels und Workshops werden nachhaltige Designkonzepte präsentiert\, unter anderem aus den Bereichen Bionik und Materialinnovation\, Smart City und Mobilität sowie Mode und Textil. \nDas „Circular Design Forum“ wird im Rahmen des EU-Projekts „Ecodesign as a Driver of Innovation in the Baltic Sea Region (EcoDesign Circle)“ umgesetzt. Zwischen 2016 und 2019 werden in Deutschland\, Estland\, Finnland\, Litauen\, Polen und Schweden Ausstellungen und Workshops realisiert\, Beratungs- und Bildungsformate konzipiert und angeboten sowie Kompetenznetzwerke aufgebaut. Das Umweltbundesamt ist Lead-Partner des Projektes. Das Projekt wird unterstützt mit Mitteln des Interreg B Ostseeprogramms der Förderperiode 2014 – 2020.
URL:https://www.recyclingmagazin.de/event/circular-design-forum/
LOCATION:EUREF Campus Berlin\, EUREF-Campus 1-25\, Berlin\, 10829\, Deutschland
CATEGORIES:Tagung
END:VEVENT
END:VCALENDAR