BEGIN:VCALENDAR
VERSION:2.0
PRODID:-//RECYCLING magazin - ECPv6.15.20//NONSGML v1.0//EN
CALSCALE:GREGORIAN
METHOD:PUBLISH
X-WR-CALNAME:RECYCLING magazin
X-ORIGINAL-URL:https://www.recyclingmagazin.de
X-WR-CALDESC:Veranstaltungen für RECYCLING magazin
REFRESH-INTERVAL;VALUE=DURATION:PT1H
X-Robots-Tag:noindex
X-PUBLISHED-TTL:PT1H
BEGIN:VTIMEZONE
TZID:Europe/Berlin
BEGIN:DAYLIGHT
TZOFFSETFROM:+0100
TZOFFSETTO:+0200
TZNAME:CEST
DTSTART:20180325T010000
END:DAYLIGHT
BEGIN:STANDARD
TZOFFSETFROM:+0200
TZOFFSETTO:+0100
TZNAME:CET
DTSTART:20181028T010000
END:STANDARD
BEGIN:DAYLIGHT
TZOFFSETFROM:+0100
TZOFFSETTO:+0200
TZNAME:CEST
DTSTART:20190331T010000
END:DAYLIGHT
BEGIN:STANDARD
TZOFFSETFROM:+0200
TZOFFSETTO:+0100
TZNAME:CET
DTSTART:20191027T010000
END:STANDARD
BEGIN:DAYLIGHT
TZOFFSETFROM:+0100
TZOFFSETTO:+0200
TZNAME:CEST
DTSTART:20200329T010000
END:DAYLIGHT
BEGIN:STANDARD
TZOFFSETFROM:+0200
TZOFFSETTO:+0100
TZNAME:CET
DTSTART:20201025T010000
END:STANDARD
END:VTIMEZONE
BEGIN:VEVENT
DTSTART;VALUE=DATE:20190911
DTEND;VALUE=DATE:20190912
DTSTAMP:20260420T114101
CREATED:20190731T123833Z
LAST-MODIFIED:20190731T123833Z
UID:373119-1568160000-1568246399@www.recyclingmagazin.de
SUMMARY:#C2CSummit19 - Cradle to Cradle Summit
DESCRIPTION:Der C2C Summit: Building & Architecture ist eine Plattform für Vernetzung\, Austausch und Weiterbildung zum Thema Innovatives Bauen & Design im Rahmen von Cradle to Cradle. Vertreter*innen aus den Bereichen Bau\, Architektur\, Wirtschaft und Politik werden dazu animiert sich zu Themen wie C2C-Innovationen & -Bau\, Best Practice Beispielen und zukünftiges Bauen auseinanderzusetzen. \nIm gleichen Zuge soll das weltweit erste umfassende C2C-Sanierungsprojekt vorgestellt werden: Als Qualitäts- und Innovationstreiber in Berlin setzt der Cradle to Cradle e.V. mit dem C2C LAB auf 400 qm neue Maßstäbe für gesunde und kreislauffähige Innovationen mit einem positiven Fußabdruck. Das C2C LAB bringt C2C-Changemaker zusammen und beschleunigt den Übergang zu einer C2C-Zukunft. \nDas Innovationskonzept Cradle to Cradle\, übersetzt „von der Wiege zur Wiege“\, steht für ein Designkonzept\, bei dem gesunde Materialien kontinuierlich in biologischen und technischen Kreisläufen zirkulieren – Abfall gibt es nicht. Produkte und Produktionsprozesse sind für Mensch und Umwelt gesund und speisen sich ausschließlich aus erneuerbaren Energien.
URL:https://www.recyclingmagazin.de/event/c2csummit19-cradle-to-cradle-summit/
LOCATION:Umweltforum Auferstehungskirche\, Pufendorfstr. 11\, Berlin\, 10249\, Deutschland
CATEGORIES:Kongress
ORGANIZER;CN="Cradle to Cradle NGO":MAILTO:info@c2c.ngo
END:VEVENT
END:VCALENDAR