BEGIN:VCALENDAR
VERSION:2.0
PRODID:-//RECYCLING magazin - ECPv6.15.20//NONSGML v1.0//EN
CALSCALE:GREGORIAN
METHOD:PUBLISH
X-WR-CALNAME:RECYCLING magazin
X-ORIGINAL-URL:https://www.recyclingmagazin.de
X-WR-CALDESC:Veranstaltungen für RECYCLING magazin
REFRESH-INTERVAL;VALUE=DURATION:PT1H
X-Robots-Tag:noindex
X-PUBLISHED-TTL:PT1H
BEGIN:VTIMEZONE
TZID:Europe/Berlin
BEGIN:DAYLIGHT
TZOFFSETFROM:+0100
TZOFFSETTO:+0200
TZNAME:CEST
DTSTART:20170326T010000
END:DAYLIGHT
BEGIN:STANDARD
TZOFFSETFROM:+0200
TZOFFSETTO:+0100
TZNAME:CET
DTSTART:20171029T010000
END:STANDARD
BEGIN:DAYLIGHT
TZOFFSETFROM:+0100
TZOFFSETTO:+0200
TZNAME:CEST
DTSTART:20180325T010000
END:DAYLIGHT
BEGIN:STANDARD
TZOFFSETFROM:+0200
TZOFFSETTO:+0100
TZNAME:CET
DTSTART:20181028T010000
END:STANDARD
BEGIN:DAYLIGHT
TZOFFSETFROM:+0100
TZOFFSETTO:+0200
TZNAME:CEST
DTSTART:20190331T010000
END:DAYLIGHT
BEGIN:STANDARD
TZOFFSETFROM:+0200
TZOFFSETTO:+0100
TZNAME:CET
DTSTART:20191027T010000
END:STANDARD
END:VTIMEZONE
BEGIN:VEVENT
DTSTART;VALUE=DATE:20180201
DTEND;VALUE=DATE:20180202
DTSTAMP:20260419T223659
CREATED:20171128T125227Z
LAST-MODIFIED:20171128T125227Z
UID:360558-1517443200-1517529599@www.recyclingmagazin.de
SUMMARY:Brandschutz in Entsorgungs- und Recyclinganlagen
DESCRIPTION:Das Risiko von feuerbedingten Betriebsunterbrechungen und Schäden ist in Entsorgungs- und Recyclinganlagen besonders hoch. Für eine effektive Prävention ist die umfassende Verzahnung von baulichem\, technischem und organisatorischem Brandschutz in einem schlüssigen Konzept unabdingbar. Diskutieren Sie gemeinsam mit Experten aus der Praxis.
URL:https://www.recyclingmagazin.de/event/brandschutz-in-entsorgungs-und-recyclinganlagen/
LOCATION:BDE-Geschäftsstelle\, Behrenstraße 29 \, Berlin\, 10117
CATEGORIES:Seminar
END:VEVENT
END:VCALENDAR