BEGIN:VCALENDAR
VERSION:2.0
PRODID:-//RECYCLING magazin - ECPv6.15.20//NONSGML v1.0//EN
CALSCALE:GREGORIAN
METHOD:PUBLISH
X-WR-CALNAME:RECYCLING magazin
X-ORIGINAL-URL:https://www.recyclingmagazin.de
X-WR-CALDESC:Veranstaltungen für RECYCLING magazin
REFRESH-INTERVAL;VALUE=DURATION:PT1H
X-Robots-Tag:noindex
X-PUBLISHED-TTL:PT1H
BEGIN:VTIMEZONE
TZID:Europe/Berlin
BEGIN:DAYLIGHT
TZOFFSETFROM:+0100
TZOFFSETTO:+0200
TZNAME:CEST
DTSTART:20160327T010000
END:DAYLIGHT
BEGIN:STANDARD
TZOFFSETFROM:+0200
TZOFFSETTO:+0100
TZNAME:CET
DTSTART:20161030T010000
END:STANDARD
BEGIN:DAYLIGHT
TZOFFSETFROM:+0100
TZOFFSETTO:+0200
TZNAME:CEST
DTSTART:20170326T010000
END:DAYLIGHT
BEGIN:STANDARD
TZOFFSETFROM:+0200
TZOFFSETTO:+0100
TZNAME:CET
DTSTART:20171029T010000
END:STANDARD
BEGIN:DAYLIGHT
TZOFFSETFROM:+0100
TZOFFSETTO:+0200
TZNAME:CEST
DTSTART:20180325T010000
END:DAYLIGHT
BEGIN:STANDARD
TZOFFSETFROM:+0200
TZOFFSETTO:+0100
TZNAME:CET
DTSTART:20181028T010000
END:STANDARD
END:VTIMEZONE
BEGIN:VEVENT
DTSTART;VALUE=DATE:20171207
DTEND;VALUE=DATE:20171208
DTSTAMP:20260419T192547
CREATED:20171123T114747Z
LAST-MODIFIED:20171123T114747Z
UID:360482-1512604800-1512691199@www.recyclingmagazin.de
SUMMARY:Biogaspartner-Jahreskonferenz
DESCRIPTION:Welche Rolle kann Biogas in der Verkehrswende spielen? Und wie geht es weiter nach dem Auslaufen der EEG-Vergütungen? Hierzu wird auf der biogaspartner Jahreskonferenz diskutiert. \n\n\n\n Dass Bioenergie auch in der Zukunft eine kleine aber feine Rolle in unserem Energiesystem spielen wird\, ist unbestritten. Aber wie genau\, ob als Flexibilitätsoption primär im Strommarkt\, als Wärmelieferant für denkmalgeschützte Altbauten\, im Verkehrsbereich oder ganz allgemein als grüne Komponente im Erdgas\, da scheiden sich die Geister.
URL:https://www.recyclingmagazin.de/event/biogaspartner-jahreskonferenz/
LOCATION:European School of Management and Technology\, Schloßplatz 1\, Berlin\, 10178\, Deutschland
CATEGORIES:Konferenz
END:VEVENT
END:VCALENDAR