BEGIN:VCALENDAR
VERSION:2.0
PRODID:-//RECYCLING magazin - ECPv6.15.20//NONSGML v1.0//EN
CALSCALE:GREGORIAN
METHOD:PUBLISH
X-WR-CALNAME:RECYCLING magazin
X-ORIGINAL-URL:https://www.recyclingmagazin.de
X-WR-CALDESC:Veranstaltungen für RECYCLING magazin
REFRESH-INTERVAL;VALUE=DURATION:PT1H
X-Robots-Tag:noindex
X-PUBLISHED-TTL:PT1H
BEGIN:VTIMEZONE
TZID:Europe/Berlin
BEGIN:DAYLIGHT
TZOFFSETFROM:+0100
TZOFFSETTO:+0200
TZNAME:CEST
DTSTART:20160327T010000
END:DAYLIGHT
BEGIN:STANDARD
TZOFFSETFROM:+0200
TZOFFSETTO:+0100
TZNAME:CET
DTSTART:20161030T010000
END:STANDARD
BEGIN:DAYLIGHT
TZOFFSETFROM:+0100
TZOFFSETTO:+0200
TZNAME:CEST
DTSTART:20170326T010000
END:DAYLIGHT
BEGIN:STANDARD
TZOFFSETFROM:+0200
TZOFFSETTO:+0100
TZNAME:CET
DTSTART:20171029T010000
END:STANDARD
BEGIN:DAYLIGHT
TZOFFSETFROM:+0100
TZOFFSETTO:+0200
TZNAME:CEST
DTSTART:20180325T010000
END:DAYLIGHT
BEGIN:STANDARD
TZOFFSETFROM:+0200
TZOFFSETTO:+0100
TZNAME:CET
DTSTART:20181028T010000
END:STANDARD
END:VTIMEZONE
BEGIN:VEVENT
DTSTART;VALUE=DATE:20170213
DTEND;VALUE=DATE:20170215
DTSTAMP:20260420T123425
CREATED:20170203T155044Z
LAST-MODIFIED:20170203T155044Z
UID:355017-1486944000-1487116799@www.recyclingmagazin.de
SUMMARY:BIO-raffiniert IX
DESCRIPTION:Am 13. und 14. Februar 2017 findet bei Fraunhofer UMSICHT in Oberhausen in Kooperation mit dem Netzwerk Kraftstoffe und Antriebe der Zukunft der EnergieAgentur.NRW und CLIB2021 der Kongress »BIO-raffiniert IX« statt. Experten beleuchten die Facetten der Kohlenstoffnutzung von den Rohstoffquellen über die Synthesewege für kohlenstoffhaltige Substanzen bis hin zu den Zielprodukten wie etwa biobasierten Kraftstoffen. Anmeldungen sind bis zum 6. Februar 2017 möglich
URL:https://www.recyclingmagazin.de/event/bio-raffiniert-ix/
LOCATION:Fraunhofer UMSICHT\, Osterfelder Str. 3\, Oberhausen\, 46047\, Deutschland
CATEGORIES:Kongress
END:VEVENT
END:VCALENDAR