BEGIN:VCALENDAR
VERSION:2.0
PRODID:-//RECYCLING magazin - ECPv6.15.20//NONSGML v1.0//EN
CALSCALE:GREGORIAN
METHOD:PUBLISH
X-WR-CALNAME:RECYCLING magazin
X-ORIGINAL-URL:https://www.recyclingmagazin.de
X-WR-CALDESC:Veranstaltungen für RECYCLING magazin
REFRESH-INTERVAL;VALUE=DURATION:PT1H
X-Robots-Tag:noindex
X-PUBLISHED-TTL:PT1H
BEGIN:VTIMEZONE
TZID:Europe/Berlin
BEGIN:DAYLIGHT
TZOFFSETFROM:+0100
TZOFFSETTO:+0200
TZNAME:CEST
DTSTART:20170326T010000
END:DAYLIGHT
BEGIN:STANDARD
TZOFFSETFROM:+0200
TZOFFSETTO:+0100
TZNAME:CET
DTSTART:20171029T010000
END:STANDARD
BEGIN:DAYLIGHT
TZOFFSETFROM:+0100
TZOFFSETTO:+0200
TZNAME:CEST
DTSTART:20180325T010000
END:DAYLIGHT
BEGIN:STANDARD
TZOFFSETFROM:+0200
TZOFFSETTO:+0100
TZNAME:CET
DTSTART:20181028T010000
END:STANDARD
BEGIN:DAYLIGHT
TZOFFSETFROM:+0100
TZOFFSETTO:+0200
TZNAME:CEST
DTSTART:20190331T010000
END:DAYLIGHT
BEGIN:STANDARD
TZOFFSETFROM:+0200
TZOFFSETTO:+0100
TZNAME:CET
DTSTART:20191027T010000
END:STANDARD
END:VTIMEZONE
BEGIN:VEVENT
DTSTART;VALUE=DATE:20181203
DTEND;VALUE=DATE:20181208
DTSTAMP:20260424T122347
CREATED:20170922T164335Z
LAST-MODIFIED:20170922T164402Z
UID:359315-1543795200-1544227199@www.recyclingmagazin.de
SUMMARY:Betriebsbeauftragter für Abfall nach § 9 AbfBeauftrV\, § 9 EfbV\, §§ 4\, 5 AbfAEV\, § 4 DepV (Grundlehrgang)
DESCRIPTION:Behördlich anerkannter Fachkundelehrgang nach § 9 AbfBeauftrV\, §§ 58 – 60 KrWG\, § 9 EfbV\, §§ 4\, 5 AbfAEV\, § 4 DepV \nDurch die Änderung der Abfallbeauftragtenverordnung (AbfBeauftrV) im Juni 2017 hat sich die Zahl der Unternehmen\, welche einen Betriebsbeauftragten für Abfall bestellen müssen massiv erweitert. Die AbfBeauftrV legt u. a. fest\, dass die Betreiber von genehmigungsbedürftigen Anlagen nach BImSchG\, bei Überschreiten bestimmter Schwellenmengen von gefährlichen und nicht gefährlichen Abfällen sowie die Betreiber von Entsorgungsanlagen\, die Besitzer von Abfällen im Sinne von § 27 KrWG und die Betreiber von Rücknahmesystemen mindestens einen Abfallbeauftragten zu bestellen haben. Einzelheiten zu Bestellung und Aufgaben des Abfallbeauftragten regelt das Kreislaufwirtschaftsgesetz (KrWG) in den §§ 59 und 60. In unserem bundesweit behördlich anerkannten Lehrgang erwerben Sie die in § 9 Abs. 1 Nr. 3 der Abfallbeauftragtenverordnung (AbfBeauftrV) in Verbindung mit § 60 Abs. 3 KrWG geforderten fachlichen Kenntnisse\, die Sie für die Ausübung Ihrer Tätigkeit als Betriebsbeauftragter für Abfall benötigen. \nGemeinsam mit unseren Experten erarbeiten Sie praxisbezogen die Betriebsabläufe und Verantwortlichkeiten\, die für die Umsetzung der rechtlichen Vorgaben im Abfallbereich in Ihrem Unternehmen erforderlich sind.
URL:https://www.recyclingmagazin.de/event/betriebsbeauftragter-fuer-abfall-nach-%c2%a7-9-abfbeauftrv-%c2%a7-9-efbv-%c2%a7%c2%a7-4-5-abfaev-%c2%a7-4-depv-grundlehrgang-4/
LOCATION:kenic GmbH – Akademie für Wirtschaft und Umwelt\, Linienstraße 130\, Berlin\, 10115\, Deutschland
CATEGORIES:Seminar
ORGANIZER;CN="kenic GmbH":MAILTO:info@kenic.de
END:VEVENT
END:VCALENDAR