BEGIN:VCALENDAR
VERSION:2.0
PRODID:-//RECYCLING magazin - ECPv6.15.20//NONSGML v1.0//EN
CALSCALE:GREGORIAN
METHOD:PUBLISH
X-WR-CALNAME:RECYCLING magazin
X-ORIGINAL-URL:https://www.recyclingmagazin.de
X-WR-CALDESC:Veranstaltungen für RECYCLING magazin
REFRESH-INTERVAL;VALUE=DURATION:PT1H
X-Robots-Tag:noindex
X-PUBLISHED-TTL:PT1H
BEGIN:VTIMEZONE
TZID:Europe/Berlin
BEGIN:DAYLIGHT
TZOFFSETFROM:+0100
TZOFFSETTO:+0200
TZNAME:CEST
DTSTART:20150329T010000
END:DAYLIGHT
BEGIN:STANDARD
TZOFFSETFROM:+0200
TZOFFSETTO:+0100
TZNAME:CET
DTSTART:20151025T010000
END:STANDARD
BEGIN:DAYLIGHT
TZOFFSETFROM:+0100
TZOFFSETTO:+0200
TZNAME:CEST
DTSTART:20160327T010000
END:DAYLIGHT
BEGIN:STANDARD
TZOFFSETFROM:+0200
TZOFFSETTO:+0100
TZNAME:CET
DTSTART:20161030T010000
END:STANDARD
BEGIN:DAYLIGHT
TZOFFSETFROM:+0100
TZOFFSETTO:+0200
TZNAME:CEST
DTSTART:20170326T010000
END:DAYLIGHT
BEGIN:STANDARD
TZOFFSETFROM:+0200
TZOFFSETTO:+0100
TZNAME:CET
DTSTART:20171029T010000
END:STANDARD
END:VTIMEZONE
BEGIN:VEVENT
DTSTART;VALUE=DATE:20160614
DTEND;VALUE=DATE:20160615
DTSTAMP:20260420T212522
CREATED:20160229T143001Z
LAST-MODIFIED:20160229T143019Z
UID:348648-1465862400-1465948799@www.recyclingmagazin.de
SUMMARY:Beschwerdemanagement: Reklamationen als Chance zur Verbesserung und Kundenbindung
DESCRIPTION:Ein zufriedener Kunde teilt seine positiven Erfahrungen mit etwa drei weiteren Menschen\, ein unzufriedener Kunde hingegen mit mindestens zehn. Der erfolgreiche Umgang mit Kundenreklamationen ist daher einer der wichtigsten Einflussfaktoren auf die Kundenzufriedenheit\, somit die Kundenbindung und die Unternehmensreputation. \nGleichzeitig stellt das Beschwerdemanagment eine Quelle  für Feedback zur Unternehmensperformance dar und lässt – richtig eingesetzt – Rückschlüsse auf Anpassungs- und Verbesserungspotential zu. \nWie Reklamationsgespräche mit verärgerten Kunden genutzt werden können\, um diese im Idealfall als Stammkunden zurückzugewinnen\, möchten wir Ihnen in diesem Seminar aufzeigen.\nDazu wird zunächst der theoretische Hintergrund mithilfe erprobter Kommunikationsmodelle und harter Fakten dargestellt sowie Werkzeuge und Techniken für souveräne und kundenfreundliche Umgang mit Reklamationen auch für “schwierige” Fälle erläutert. \nAnhand von Fallbeispielen – gern auch aus Ihrer täglichen Praxis – werden dann die theoretischen Kenntnisse  praktisch angewandt\, geübt und diskutiert. Zusätzlich erhalten Sie ausreichend Möglichkeiten\, Erfahrungen und best practices mit dem Referenten und den anderen Teilnehmern auszutauschen.
URL:https://www.recyclingmagazin.de/event/beschwerdemanagement-reklamationen-als-chance-zur-verbesserung-und-kundenbindung/
LOCATION:Remondis GmbH & Co. KG – Mannheim\, Antwerpener Straße 24\, Mannheim\, 68219 \, Deutschland
CATEGORIES:Seminar
ORGANIZER;CN="BDE Bundesverband der Deutschen Entsorgungs-%2C Wasser- und Rohstoffwirtschaft":MAILTO:info@bde.de
END:VEVENT
END:VCALENDAR