BEGIN:VCALENDAR
VERSION:2.0
PRODID:-//RECYCLING magazin - ECPv6.15.20//NONSGML v1.0//EN
CALSCALE:GREGORIAN
METHOD:PUBLISH
X-WR-CALNAME:RECYCLING magazin
X-ORIGINAL-URL:https://www.recyclingmagazin.de
X-WR-CALDESC:Veranstaltungen für RECYCLING magazin
REFRESH-INTERVAL;VALUE=DURATION:PT1H
X-Robots-Tag:noindex
X-PUBLISHED-TTL:PT1H
BEGIN:VTIMEZONE
TZID:Europe/Berlin
BEGIN:DAYLIGHT
TZOFFSETFROM:+0100
TZOFFSETTO:+0200
TZNAME:CEST
DTSTART:20160327T010000
END:DAYLIGHT
BEGIN:STANDARD
TZOFFSETFROM:+0200
TZOFFSETTO:+0100
TZNAME:CET
DTSTART:20161030T010000
END:STANDARD
BEGIN:DAYLIGHT
TZOFFSETFROM:+0100
TZOFFSETTO:+0200
TZNAME:CEST
DTSTART:20170326T010000
END:DAYLIGHT
BEGIN:STANDARD
TZOFFSETFROM:+0200
TZOFFSETTO:+0100
TZNAME:CET
DTSTART:20171029T010000
END:STANDARD
BEGIN:DAYLIGHT
TZOFFSETFROM:+0100
TZOFFSETTO:+0200
TZNAME:CEST
DTSTART:20180325T010000
END:DAYLIGHT
BEGIN:STANDARD
TZOFFSETFROM:+0200
TZOFFSETTO:+0100
TZNAME:CET
DTSTART:20181028T010000
END:STANDARD
END:VTIMEZONE
BEGIN:VEVENT
DTSTART;VALUE=DATE:20170626
DTEND;VALUE=DATE:20170627
DTSTAMP:20260420T033637
CREATED:20170619T135955Z
LAST-MODIFIED:20170619T140040Z
UID:357389-1498435200-1498521599@www.recyclingmagazin.de
SUMMARY:Begleitveranstaltung zur Wanderausstellung Ressourceneffizienz Amberg
DESCRIPTION:Die Veranstaltung am 27.06.2017 an der OTH Amberg-Weiden bietet den Teilnehmenden Raum für fachlichen Austausch mit Expertinnen und Experten zu diesem wegweisenden Zukunftsthema. Die Teilnehmer haben unter anderem Gelegenheit den Umweltcluster Bayern und das Ressourceneffizienz-Zentrum Bayern (REZ) näher kennen zu lernen. Herr Werner Maas wird auf Herausforderungen im Bereich Ressourceneffizienz eingehen und die Angebote des VDI Zentrums Ressourceneffizienz GmbH vorstellen. Anschließend gibt Herr Dr.-Ing. Urs Herding Einblicke in die Ressourceneffizienzstrategie des\, in Amberg ansässigen\, Unternehmens Herding Filtertechnik GmbH. Die Veranstaltung wird mit einem Rundgang durch die Ausstellung und abschließendem Get-together bei Imbiss und Getränken abgerundet.
URL:https://www.recyclingmagazin.de/event/begleitveranstaltung-zur-wanderausstellung-ressourceneffizienz-amberg/
LOCATION:Ostbayerische Technische Hochschule Amberg-Weiden\, Kaiser-Wilhelm-Ring 23\, Amberg\, 92224\, Deutschland
CATEGORIES:Workshop
END:VEVENT
END:VCALENDAR