BEGIN:VCALENDAR
VERSION:2.0
PRODID:-//RECYCLING magazin - ECPv6.15.20//NONSGML v1.0//EN
CALSCALE:GREGORIAN
METHOD:PUBLISH
X-WR-CALNAME:RECYCLING magazin
X-ORIGINAL-URL:https://www.recyclingmagazin.de
X-WR-CALDESC:Veranstaltungen für RECYCLING magazin
REFRESH-INTERVAL;VALUE=DURATION:PT1H
X-Robots-Tag:noindex
X-PUBLISHED-TTL:PT1H
BEGIN:VTIMEZONE
TZID:Europe/Berlin
BEGIN:DAYLIGHT
TZOFFSETFROM:+0100
TZOFFSETTO:+0200
TZNAME:CEST
DTSTART:20160327T010000
END:DAYLIGHT
BEGIN:STANDARD
TZOFFSETFROM:+0200
TZOFFSETTO:+0100
TZNAME:CET
DTSTART:20161030T010000
END:STANDARD
BEGIN:DAYLIGHT
TZOFFSETFROM:+0100
TZOFFSETTO:+0200
TZNAME:CEST
DTSTART:20170326T010000
END:DAYLIGHT
BEGIN:STANDARD
TZOFFSETFROM:+0200
TZOFFSETTO:+0100
TZNAME:CET
DTSTART:20171029T010000
END:STANDARD
BEGIN:DAYLIGHT
TZOFFSETFROM:+0100
TZOFFSETTO:+0200
TZNAME:CEST
DTSTART:20180325T010000
END:DAYLIGHT
BEGIN:STANDARD
TZOFFSETFROM:+0200
TZOFFSETTO:+0100
TZNAME:CET
DTSTART:20181028T010000
END:STANDARD
END:VTIMEZONE
BEGIN:VEVENT
DTSTART;VALUE=DATE:20171107
DTEND;VALUE=DATE:20171108
DTSTAMP:20260419T192822
CREATED:20171018T121851Z
LAST-MODIFIED:20171018T125028Z
UID:359926-1510012800-1510099199@www.recyclingmagazin.de
SUMMARY:Bayerische Umwelttechnologien für den chinesischen Markt
DESCRIPTION:Was sind die Herausforderungen und wichtigsten Fragen für deutsche Umwelttechnologieunternehmen auf dem chinesischen Markt? Was sind die größten Chancen und wie können diese genutzt werden? \nAntworten auf diese und weitere Fragen gibt der Workshop „Bayerische Umwelttechnologien für den chinesischen Markt“.\nDie Experten des Umweltcluster-Bayern-Mitglieds „ZhongDe Metal Group GmbH“ werden den Teilnehmern alles rund um den Geschäftsalltag zwischen Deutschland und China sowie Geschäftsbahnungsmöglichkeiten der Umwelttechnologiebranche in China vermitteln. \nEin Mix aus Vorträgen\, Praxisberichten\, Workshopmethoden und individuellen Einzelgesprächen bietet den Teilnehmerinnen und Teilnehmern die Möglichkeit\, ihre eigenen Erfahrungen im China-Geschäft einzubringen und gleichzeitig wertvolle Informationen und Tipps von Experten zu erhalten.
URL:https://www.recyclingmagazin.de/event/bayerische-umwelttechnologien-fuer-den-chinesischen-markt/
LOCATION:FORUM H4\, Am Mittleren Moos 53\, Augsburg\, 86167 \, Deutschland
CATEGORIES:Workshop
END:VEVENT
END:VCALENDAR