BEGIN:VCALENDAR
VERSION:2.0
PRODID:-//RECYCLING magazin - ECPv6.15.20//NONSGML v1.0//EN
CALSCALE:GREGORIAN
METHOD:PUBLISH
X-WR-CALNAME:RECYCLING magazin
X-ORIGINAL-URL:https://www.recyclingmagazin.de
X-WR-CALDESC:Veranstaltungen für RECYCLING magazin
REFRESH-INTERVAL;VALUE=DURATION:PT1H
X-Robots-Tag:noindex
X-PUBLISHED-TTL:PT1H
BEGIN:VTIMEZONE
TZID:Europe/Berlin
BEGIN:DAYLIGHT
TZOFFSETFROM:+0100
TZOFFSETTO:+0200
TZNAME:CEST
DTSTART:20160327T010000
END:DAYLIGHT
BEGIN:STANDARD
TZOFFSETFROM:+0200
TZOFFSETTO:+0100
TZNAME:CET
DTSTART:20161030T010000
END:STANDARD
BEGIN:DAYLIGHT
TZOFFSETFROM:+0100
TZOFFSETTO:+0200
TZNAME:CEST
DTSTART:20170326T010000
END:DAYLIGHT
BEGIN:STANDARD
TZOFFSETFROM:+0200
TZOFFSETTO:+0100
TZNAME:CET
DTSTART:20171029T010000
END:STANDARD
BEGIN:DAYLIGHT
TZOFFSETFROM:+0100
TZOFFSETTO:+0200
TZNAME:CEST
DTSTART:20180325T010000
END:DAYLIGHT
BEGIN:STANDARD
TZOFFSETFROM:+0200
TZOFFSETTO:+0100
TZNAME:CET
DTSTART:20181028T010000
END:STANDARD
END:VTIMEZONE
BEGIN:VEVENT
DTSTART;VALUE=DATE:20170620
DTEND;VALUE=DATE:20170621
DTSTAMP:20260420T132556
CREATED:20170510T132637Z
LAST-MODIFIED:20170510T132637Z
UID:356566-1497916800-1498003199@www.recyclingmagazin.de
SUMMARY:Ausschreibung von Entsorgungsleistungen
DESCRIPTION:Nach einer Einleitung zum aktuellen Stand des Vergaberechts sowie des Abfallrechts\, wird der Ablauf einer EU-weiten Ausschreibung aus dem Bereich der Entsorgungsleistungen detailliert besprochen. Dies erfolgt anhand eines Praxisbeispiels. Dabei werden auf der einen Seite die vergaberechtlichen Anforderungen dargestellt und auf der anderen Seite die praktische Umsetzung unter Berücksichtigung der technisch-wirtschaftlichen Anforderungen intensiv beleuchtet. \nDas Seminar zeigt praxisgerechte und rechtssichere Wege auf Entsorgungsleistungen am Markt zu beschaffen. Durch Fallbeispiele wird den Teilnehmern vermittelt\, wie durch eine strukturierte Vorbereitung und Durchführung der Ausschreibung hochwirtschaftliche Ergebnisse erzielt werden können. Mit abgedeckt werden die aktuellen Anforderungen an die Einbindung von Umwelt- und Nachhaltigkeitsaspekten.
URL:https://www.recyclingmagazin.de/event/ausschreibung-von-entsorgungsleistungen/
LOCATION:Radisson BLU Hotel Mannheim\, Q7 27\, Mannheim\, 68161 \, Deutschland
CATEGORIES:Seminar
END:VEVENT
END:VCALENDAR