BEGIN:VCALENDAR
VERSION:2.0
PRODID:-//RECYCLING magazin - ECPv6.15.20//NONSGML v1.0//EN
CALSCALE:GREGORIAN
METHOD:PUBLISH
X-WR-CALNAME:RECYCLING magazin
X-ORIGINAL-URL:https://www.recyclingmagazin.de
X-WR-CALDESC:Veranstaltungen für RECYCLING magazin
REFRESH-INTERVAL;VALUE=DURATION:PT1H
X-Robots-Tag:noindex
X-PUBLISHED-TTL:PT1H
BEGIN:VTIMEZONE
TZID:Europe/Berlin
BEGIN:DAYLIGHT
TZOFFSETFROM:+0100
TZOFFSETTO:+0200
TZNAME:CEST
DTSTART:20160327T010000
END:DAYLIGHT
BEGIN:STANDARD
TZOFFSETFROM:+0200
TZOFFSETTO:+0100
TZNAME:CET
DTSTART:20161030T010000
END:STANDARD
BEGIN:DAYLIGHT
TZOFFSETFROM:+0100
TZOFFSETTO:+0200
TZNAME:CEST
DTSTART:20170326T010000
END:DAYLIGHT
BEGIN:STANDARD
TZOFFSETFROM:+0200
TZOFFSETTO:+0100
TZNAME:CET
DTSTART:20171029T010000
END:STANDARD
BEGIN:DAYLIGHT
TZOFFSETFROM:+0100
TZOFFSETTO:+0200
TZNAME:CEST
DTSTART:20180325T010000
END:DAYLIGHT
BEGIN:STANDARD
TZOFFSETFROM:+0200
TZOFFSETTO:+0100
TZNAME:CET
DTSTART:20181028T010000
END:STANDARD
END:VTIMEZONE
BEGIN:VEVENT
DTSTART;VALUE=DATE:20170221
DTEND;VALUE=DATE:20170222
DTSTAMP:20260420T185614
CREATED:20170208T143531Z
LAST-MODIFIED:20170208T143926Z
UID:355157-1487635200-1487721599@www.recyclingmagazin.de
SUMMARY:Ausschreiben von Kommunalfahrzeugen
DESCRIPTION:Das Vergaberecht stellt ein kompliziertes und unübersichtliches Regel­werk dar\, das öffentliche Auftraggeber bei der Beauftragung Dritter zwingend zu beachten haben. Welchen Vorgaben ein konkretes Angebot entsprechen muss\, ist insbesondere von der Art der beauftragten Leistung und den sogenannten Schwellenwerten abhängig.
URL:https://www.recyclingmagazin.de/event/ausschreiben-von-kommunalfahrzeugen/
LOCATION:InterCity Hotel Essen\, Hachestrasse 10\, Essen\, 45127\, Deutschland
CATEGORIES:Seminar
END:VEVENT
END:VCALENDAR