BEGIN:VCALENDAR
VERSION:2.0
PRODID:-//RECYCLING magazin - ECPv6.15.20//NONSGML v1.0//EN
CALSCALE:GREGORIAN
METHOD:PUBLISH
X-WR-CALNAME:RECYCLING magazin
X-ORIGINAL-URL:https://www.recyclingmagazin.de
X-WR-CALDESC:Veranstaltungen für RECYCLING magazin
REFRESH-INTERVAL;VALUE=DURATION:PT1H
X-Robots-Tag:noindex
X-PUBLISHED-TTL:PT1H
BEGIN:VTIMEZONE
TZID:Europe/Berlin
BEGIN:DAYLIGHT
TZOFFSETFROM:+0100
TZOFFSETTO:+0200
TZNAME:CEST
DTSTART:20160327T010000
END:DAYLIGHT
BEGIN:STANDARD
TZOFFSETFROM:+0200
TZOFFSETTO:+0100
TZNAME:CET
DTSTART:20161030T010000
END:STANDARD
BEGIN:DAYLIGHT
TZOFFSETFROM:+0100
TZOFFSETTO:+0200
TZNAME:CEST
DTSTART:20170326T010000
END:DAYLIGHT
BEGIN:STANDARD
TZOFFSETFROM:+0200
TZOFFSETTO:+0100
TZNAME:CET
DTSTART:20171029T010000
END:STANDARD
BEGIN:DAYLIGHT
TZOFFSETFROM:+0100
TZOFFSETTO:+0200
TZNAME:CEST
DTSTART:20180325T010000
END:DAYLIGHT
BEGIN:STANDARD
TZOFFSETFROM:+0200
TZOFFSETTO:+0100
TZNAME:CET
DTSTART:20181028T010000
END:STANDARD
END:VTIMEZONE
BEGIN:VEVENT
DTSTART;VALUE=DATE:20171108
DTEND;VALUE=DATE:20171110
DTSTAMP:20260419T175048
CREATED:20170928T092943Z
LAST-MODIFIED:20170928T092943Z
UID:359470-1510099200-1510271999@www.recyclingmagazin.de
SUMMARY:Aufrechterhaltung der Fachkunde mit Schwerpunkt: Rechtliche und technische Veränderungen in der Entsorgungsbranche
DESCRIPTION:Für Leitungs- und Aufsichtspersonal von Entsorgungsfachbetrieben sowie von Sammlern\, Beförderern\, Händlern und Maklern.
URL:https://www.recyclingmagazin.de/event/aufrechterhaltung-der-fachkunde-mit-schwerpunkt-rechtliche-und-technische-veraenderungen-in-der-entsorgungsbranche/
LOCATION:Hamburg
CATEGORIES:Seminar
END:VEVENT
END:VCALENDAR