BEGIN:VCALENDAR
VERSION:2.0
PRODID:-//RECYCLING magazin - ECPv6.15.20//NONSGML v1.0//EN
CALSCALE:GREGORIAN
METHOD:PUBLISH
X-WR-CALNAME:RECYCLING magazin
X-ORIGINAL-URL:https://www.recyclingmagazin.de
X-WR-CALDESC:Veranstaltungen für RECYCLING magazin
REFRESH-INTERVAL;VALUE=DURATION:PT1H
X-Robots-Tag:noindex
X-PUBLISHED-TTL:PT1H
BEGIN:VTIMEZONE
TZID:Europe/Berlin
BEGIN:DAYLIGHT
TZOFFSETFROM:+0100
TZOFFSETTO:+0200
TZNAME:CEST
DTSTART:20170326T010000
END:DAYLIGHT
BEGIN:STANDARD
TZOFFSETFROM:+0200
TZOFFSETTO:+0100
TZNAME:CET
DTSTART:20171029T010000
END:STANDARD
BEGIN:DAYLIGHT
TZOFFSETFROM:+0100
TZOFFSETTO:+0200
TZNAME:CEST
DTSTART:20180325T010000
END:DAYLIGHT
BEGIN:STANDARD
TZOFFSETFROM:+0200
TZOFFSETTO:+0100
TZNAME:CET
DTSTART:20181028T010000
END:STANDARD
BEGIN:DAYLIGHT
TZOFFSETFROM:+0100
TZOFFSETTO:+0200
TZNAME:CEST
DTSTART:20190331T010000
END:DAYLIGHT
BEGIN:STANDARD
TZOFFSETFROM:+0200
TZOFFSETTO:+0100
TZNAME:CET
DTSTART:20191027T010000
END:STANDARD
END:VTIMEZONE
BEGIN:VEVENT
DTSTART;VALUE=DATE:20181129
DTEND;VALUE=DATE:20181201
DTSTAMP:20260424T133027
CREATED:20180717T142411Z
LAST-MODIFIED:20180717T142411Z
UID:364661-1543449600-1543622399@www.recyclingmagazin.de
SUMMARY:Aquatic and Terrestrial Ecotoxicology and Risk Management
DESCRIPTION:Am 29. und 30. November veranstaltet die Akademie Fresenius die 18. internationale Fachkonferenz „Aquatic and Terrestrial Ecotoxicology and Risk Management“. Hochrangige Experten aus verschiedenen Ländern diskutieren das Gefahrenpotential von Agrochemikalien für die Umwelt.
URL:https://www.recyclingmagazin.de/event/aquatic-and-terrestrial-ecotoxicology-and-risk-management/
LOCATION:Atrium Hotel Mainz\, Flugplatzstr. 44\, Mainz\, 55126\, Deutschland
CATEGORIES:Konferenz
ORGANIZER;CN="Umweltakademie Fresenius":MAILTO:fresenius@umweltakademie-fresenius.de
END:VEVENT
END:VCALENDAR