BEGIN:VCALENDAR
VERSION:2.0
PRODID:-//RECYCLING magazin - ECPv6.15.20//NONSGML v1.0//EN
CALSCALE:GREGORIAN
METHOD:PUBLISH
X-WR-CALNAME:RECYCLING magazin
X-ORIGINAL-URL:https://www.recyclingmagazin.de
X-WR-CALDESC:Veranstaltungen für RECYCLING magazin
REFRESH-INTERVAL;VALUE=DURATION:PT1H
X-Robots-Tag:noindex
X-PUBLISHED-TTL:PT1H
BEGIN:VTIMEZONE
TZID:Europe/Berlin
BEGIN:DAYLIGHT
TZOFFSETFROM:+0100
TZOFFSETTO:+0200
TZNAME:CEST
DTSTART:20200329T010000
END:DAYLIGHT
BEGIN:STANDARD
TZOFFSETFROM:+0200
TZOFFSETTO:+0100
TZNAME:CET
DTSTART:20201025T010000
END:STANDARD
BEGIN:DAYLIGHT
TZOFFSETFROM:+0100
TZOFFSETTO:+0200
TZNAME:CEST
DTSTART:20210328T010000
END:DAYLIGHT
BEGIN:STANDARD
TZOFFSETFROM:+0200
TZOFFSETTO:+0100
TZNAME:CET
DTSTART:20211031T010000
END:STANDARD
BEGIN:DAYLIGHT
TZOFFSETFROM:+0100
TZOFFSETTO:+0200
TZNAME:CEST
DTSTART:20220327T010000
END:DAYLIGHT
BEGIN:STANDARD
TZOFFSETFROM:+0200
TZOFFSETTO:+0100
TZNAME:CET
DTSTART:20221030T010000
END:STANDARD
END:VTIMEZONE
BEGIN:VEVENT
DTSTART;VALUE=DATE:20210304
DTEND;VALUE=DATE:20210306
DTSTAMP:20260420T211547
CREATED:20201222T095045Z
LAST-MODIFIED:20201222T095045Z
UID:381234-1614816000-1614988799@www.recyclingmagazin.de
SUMMARY:Aktuelle Trends im Kunststoffrecycling
DESCRIPTION:Kunststoffe sind ein kostengünstiger Rohstoff\, der vielfältig einsetzbar ist. Doch Kunststoffabfälle sind auch Gegenstand heftiger kontroverser Diskussionen\, da sie die Umwelt und insbesondere die Meere stark belasten. Neben der Abfallvermeidung ist das Kunststoffrecycling eine effiziente Methode\, um Ressourcen und Kosten einzusparen und die Umwelt zu schützen. Vor dem Hintergrund der EU-Kunststoffstrategie\, die ein neues kreislauforientiertes Modell anstrebt\, und des Anfang 2019 in Kraft getretenen Verpackungsgesetzes\, informiert Sie dieses Seminar umfassend über aktuelle rechtliche\, technische\, wirtschaftliche und politische Entwicklungen im Bereich des Kunststoffrecyclings. Diskutieren Sie mit ausgewählten Branchenexperten verschiedenste Fragestellungen aus den folgenden Bereichen: \n\nRechtliche Grundlagen und Neuerungen\nSammlung und Erfassung von Kunststoffabfällen\nVerwertungsverfahren im Vergleich\nZertifizierungen und Labels\nEcodesign in der Praxis\nSinnhaftigkeit und Perspektiven des Recyclings
URL:https://www.recyclingmagazin.de/event/aktuelle-trends-im-kunststoffrecycling-6/
CATEGORIES:Seminar
END:VEVENT
END:VCALENDAR