BEGIN:VCALENDAR
VERSION:2.0
PRODID:-//RECYCLING magazin - ECPv6.15.20//NONSGML v1.0//EN
CALSCALE:GREGORIAN
METHOD:PUBLISH
X-WR-CALNAME:RECYCLING magazin
X-ORIGINAL-URL:https://www.recyclingmagazin.de
X-WR-CALDESC:Veranstaltungen für RECYCLING magazin
REFRESH-INTERVAL;VALUE=DURATION:PT1H
X-Robots-Tag:noindex
X-PUBLISHED-TTL:PT1H
BEGIN:VTIMEZONE
TZID:Europe/Berlin
BEGIN:DAYLIGHT
TZOFFSETFROM:+0100
TZOFFSETTO:+0200
TZNAME:CEST
DTSTART:20170326T010000
END:DAYLIGHT
BEGIN:STANDARD
TZOFFSETFROM:+0200
TZOFFSETTO:+0100
TZNAME:CET
DTSTART:20171029T010000
END:STANDARD
BEGIN:DAYLIGHT
TZOFFSETFROM:+0100
TZOFFSETTO:+0200
TZNAME:CEST
DTSTART:20180325T010000
END:DAYLIGHT
BEGIN:STANDARD
TZOFFSETFROM:+0200
TZOFFSETTO:+0100
TZNAME:CET
DTSTART:20181028T010000
END:STANDARD
BEGIN:DAYLIGHT
TZOFFSETFROM:+0100
TZOFFSETTO:+0200
TZNAME:CEST
DTSTART:20190331T010000
END:DAYLIGHT
BEGIN:STANDARD
TZOFFSETFROM:+0200
TZOFFSETTO:+0100
TZNAME:CET
DTSTART:20191027T010000
END:STANDARD
END:VTIMEZONE
BEGIN:VEVENT
DTSTART;VALUE=DATE:20180220
DTEND;VALUE=DATE:20180221
DTSTAMP:20260419T224230
CREATED:20171212T162124Z
LAST-MODIFIED:20171212T162124Z
UID:360817-1519084800-1519171199@www.recyclingmagazin.de
SUMMARY:AGB-Recht in Entsorgungsverträgen - wirksamer Schutz gegen Insolvenzen
DESCRIPTION:Die schriftliche Regelung von Entsorgungsverträgen erleichtert die Abwicklung für beide Seiten. Das Seminar wird sich zum einen mit der Frage von Allgemeinen Geschäftsbedingungen im Rahmen von Entsorgungsverträgen und zum anderen mit dem wirksamen Schutz gegen Insolvenzen beschäftigen. \nIm Einzelnen wird auf folgendes eingegangen: \n\nWann sind in Entsorgungsverträgen Individualvereinbarungen sinnvoll und wann sollte auf AGB zurückgegriffen werden?\nWelche Inhalte von Entsorgungs-AGB sind wichtig? (Verkehrssicherungspflichten\, Weigerungsrechte\, Preisanpassungsklauseln\, Haftungsfragen\, Eigentumsregelungen)\nWie beziehe ich meine AGB ordnungsgemäß in meine Verträge mit ein?\nWie sichere ich mich vertraglich gegen Insolvenzen meiner Geschäftspartner ab?\nWie sichere ich mich in praktischer Hinsicht gegen Insolvenzen meiner Geschäftspartner ab?
URL:https://www.recyclingmagazin.de/event/agb-recht-in-entsorgungsvertraegen-wirksamer-schutz-gegen-insolvenzen/
LOCATION:bvse-Bildungszentrum\, Hohe Straße 73\, Bonn\, 53119
CATEGORIES:Seminar
ORGANIZER;CN="bvse-recyconsult":MAILTO:info@bvse.de
END:VEVENT
END:VCALENDAR